BEGIN:VCALENDAR
VERSION:2.0
PRODID:-//jEvents 2.0 for Joomla//EN
CALSCALE:GREGORIAN
METHOD:PUBLISH
BEGIN:VTIMEZONE
TZID:Europe/Lisbon
BEGIN:STANDARD
DTSTART:20130103T000000
RDATE:20130331T020000
TZOFFSETFROM:+0100
TZOFFSETTO:+0000
TZNAME:Europe/Lisbon WET
END:STANDARD
BEGIN:STANDARD
DTSTART:20131027T010000
RDATE:20140330T020000
TZOFFSETFROM:+0100
TZOFFSETTO:+0000
TZNAME:Europe/Lisbon WET
END:STANDARD
BEGIN:STANDARD
DTSTART:20141026T010000
RDATE:20150329T020000
TZOFFSETFROM:+0100
TZOFFSETTO:+0000
TZNAME:Europe/Lisbon WET
END:STANDARD
BEGIN:STANDARD
DTSTART:20151025T010000
RDATE:20160327T020000
TZOFFSETFROM:+0100
TZOFFSETTO:+0000
TZNAME:Europe/Lisbon WET
END:STANDARD
BEGIN:STANDARD
DTSTART:20161030T010000
RDATE:20170326T020000
TZOFFSETFROM:+0100
TZOFFSETTO:+0000
TZNAME:Europe/Lisbon WET
END:STANDARD
BEGIN:STANDARD
DTSTART:20171029T010000
RDATE:20180325T020000
TZOFFSETFROM:+0100
TZOFFSETTO:+0000
TZNAME:Europe/Lisbon WET
END:STANDARD
BEGIN:STANDARD
DTSTART:20181028T010000
RDATE:20190331T020000
TZOFFSETFROM:+0100
TZOFFSETTO:+0000
TZNAME:Europe/Lisbon WET
END:STANDARD
BEGIN:STANDARD
DTSTART:20191027T010000
RDATE:20200329T020000
TZOFFSETFROM:+0100
TZOFFSETTO:+0000
TZNAME:Europe/Lisbon WET
END:STANDARD
BEGIN:STANDARD
DTSTART:20201025T010000
RDATE:20210328T020000
TZOFFSETFROM:+0100
TZOFFSETTO:+0000
TZNAME:Europe/Lisbon WET
END:STANDARD
BEGIN:DAYLIGHT
DTSTART:20130331T020000
RDATE:20131027T010000
TZOFFSETFROM:+0000
TZOFFSETTO:+0100
TZNAME:Europe/Lisbon WEST
END:DAYLIGHT
BEGIN:DAYLIGHT
DTSTART:20140330T020000
RDATE:20141026T010000
TZOFFSETFROM:+0000
TZOFFSETTO:+0100
TZNAME:Europe/Lisbon WEST
END:DAYLIGHT
BEGIN:DAYLIGHT
DTSTART:20150329T020000
RDATE:20151025T010000
TZOFFSETFROM:+0000
TZOFFSETTO:+0100
TZNAME:Europe/Lisbon WEST
END:DAYLIGHT
BEGIN:DAYLIGHT
DTSTART:20160327T020000
RDATE:20161030T010000
TZOFFSETFROM:+0000
TZOFFSETTO:+0100
TZNAME:Europe/Lisbon WEST
END:DAYLIGHT
BEGIN:DAYLIGHT
DTSTART:20170326T020000
RDATE:20171029T010000
TZOFFSETFROM:+0000
TZOFFSETTO:+0100
TZNAME:Europe/Lisbon WEST
END:DAYLIGHT
BEGIN:DAYLIGHT
DTSTART:20180325T020000
RDATE:20181028T010000
TZOFFSETFROM:+0000
TZOFFSETTO:+0100
TZNAME:Europe/Lisbon WEST
END:DAYLIGHT
BEGIN:DAYLIGHT
DTSTART:20190331T020000
RDATE:20191027T010000
TZOFFSETFROM:+0000
TZOFFSETTO:+0100
TZNAME:Europe/Lisbon WEST
END:DAYLIGHT
BEGIN:DAYLIGHT
DTSTART:20200329T020000
RDATE:20201025T010000
TZOFFSETFROM:+0000
TZOFFSETTO:+0100
TZNAME:Europe/Lisbon WEST
END:DAYLIGHT
END:VTIMEZONE
BEGIN:VEVENT
UID:6180813e25b454e19d01ae5af1a2beaf
CATEGORIES:Santos
SUMMARY:Beata Ângela de Folinho
DESCRIPTION;ENCODING=QUOTED-PRINTABLE:\n\nNasceu em 1248, na cidade de Foligno, Úmbria, Itália, filha de pais ric
 os e não cristãos.\n\n\nCasou cedo e teve vários filhos. Vivia uma vida mun
 dana e por vezes sacrílega.\n\n\nDepois de uma visão no ano de 1285 d.C., c
 onverteu-se, Mais tarde, sonhou com São Francisco de Assis e resolveu fazer
  a mesma peregrinação que S. Francisco havua feito. Beata Ângela de Folinho
  decidiu, então abandonar tudo e entrar para a Ordem Terceira de São Franci
 sco de Assis.\n\n\nTeve várias experiâncias místicas, que foram relatadas p
 elo seu biógrafo, o Padre Arnaldo de Folinho.\n\n\nA Beata Ângela de Folinh
 o foi notável pela sua caridade, visionária, mística, sendo considerada a p
 rimeira escritora mística da história da Igreja.\n\n\nUma das passagens mai
 s interessantes da vida da Beata Ângela de Folinho ocorreu quando esta esta
 va a refletir sobre a Paixão de Cristo e entrou em êxtase, no qual Cristo l
 he disse:\n\n\n"Não foi para brincar que te amei".\n\n\nSegundo, a Beata Ân
 gela de Folinho, Jesus referia-se ao Seu sacrifício na cruz para nos salvar
 .\n\n\nBeata Ângela de Folinho, morreu na mesma cidade em que nasceu, no di
 a 04 de janeiro de 1390 e foi enterrada na Igreja de São Francisco de Assis
  em Foligno (Folinho), Itália.\n\n\n\n\n\nCuriosidade: A Beata Ângela de Fo
 linho é normalmente representada com Jesus convidando-a para a Sagrada Comu
 nhão.\n
DTSTAMP:20260422T015541Z
DTSTART;TZID=Europe/Lisbon;VALUE=DATE:20140104
DTEND;TZID=Europe/Lisbon;VALUE=DATE:20140105
SEQUENCE:0
RRULE:FREQ=YEARLY;COUNT=100;INTERVAL=1;BYYEARDAY=+4
TRANSP:OPAQUE
END:VEVENT
END:VCALENDAR