BEGIN:VCALENDAR
VERSION:2.0
PRODID:-//jEvents 2.0 for Joomla//EN
CALSCALE:GREGORIAN
METHOD:PUBLISH
BEGIN:VTIMEZONE
TZID:Europe/Lisbon
BEGIN:STANDARD
DTSTART:20130102T000000
RDATE:20130331T020000
TZOFFSETFROM:+0100
TZOFFSETTO:+0000
TZNAME:Europe/Lisbon WET
END:STANDARD
BEGIN:STANDARD
DTSTART:20131027T010000
RDATE:20140330T020000
TZOFFSETFROM:+0100
TZOFFSETTO:+0000
TZNAME:Europe/Lisbon WET
END:STANDARD
BEGIN:STANDARD
DTSTART:20141026T010000
RDATE:20150329T020000
TZOFFSETFROM:+0100
TZOFFSETTO:+0000
TZNAME:Europe/Lisbon WET
END:STANDARD
BEGIN:STANDARD
DTSTART:20151025T010000
RDATE:20160327T020000
TZOFFSETFROM:+0100
TZOFFSETTO:+0000
TZNAME:Europe/Lisbon WET
END:STANDARD
BEGIN:STANDARD
DTSTART:20161030T010000
RDATE:20170326T020000
TZOFFSETFROM:+0100
TZOFFSETTO:+0000
TZNAME:Europe/Lisbon WET
END:STANDARD
BEGIN:STANDARD
DTSTART:20171029T010000
RDATE:20180325T020000
TZOFFSETFROM:+0100
TZOFFSETTO:+0000
TZNAME:Europe/Lisbon WET
END:STANDARD
BEGIN:STANDARD
DTSTART:20181028T010000
RDATE:20190331T020000
TZOFFSETFROM:+0100
TZOFFSETTO:+0000
TZNAME:Europe/Lisbon WET
END:STANDARD
BEGIN:STANDARD
DTSTART:20191027T010000
RDATE:20200329T020000
TZOFFSETFROM:+0100
TZOFFSETTO:+0000
TZNAME:Europe/Lisbon WET
END:STANDARD
BEGIN:STANDARD
DTSTART:20201025T010000
RDATE:20210328T020000
TZOFFSETFROM:+0100
TZOFFSETTO:+0000
TZNAME:Europe/Lisbon WET
END:STANDARD
BEGIN:DAYLIGHT
DTSTART:20130331T020000
RDATE:20131027T010000
TZOFFSETFROM:+0000
TZOFFSETTO:+0100
TZNAME:Europe/Lisbon WEST
END:DAYLIGHT
BEGIN:DAYLIGHT
DTSTART:20140330T020000
RDATE:20141026T010000
TZOFFSETFROM:+0000
TZOFFSETTO:+0100
TZNAME:Europe/Lisbon WEST
END:DAYLIGHT
BEGIN:DAYLIGHT
DTSTART:20150329T020000
RDATE:20151025T010000
TZOFFSETFROM:+0000
TZOFFSETTO:+0100
TZNAME:Europe/Lisbon WEST
END:DAYLIGHT
BEGIN:DAYLIGHT
DTSTART:20160327T020000
RDATE:20161030T010000
TZOFFSETFROM:+0000
TZOFFSETTO:+0100
TZNAME:Europe/Lisbon WEST
END:DAYLIGHT
BEGIN:DAYLIGHT
DTSTART:20170326T020000
RDATE:20171029T010000
TZOFFSETFROM:+0000
TZOFFSETTO:+0100
TZNAME:Europe/Lisbon WEST
END:DAYLIGHT
BEGIN:DAYLIGHT
DTSTART:20180325T020000
RDATE:20181028T010000
TZOFFSETFROM:+0000
TZOFFSETTO:+0100
TZNAME:Europe/Lisbon WEST
END:DAYLIGHT
BEGIN:DAYLIGHT
DTSTART:20190331T020000
RDATE:20191027T010000
TZOFFSETFROM:+0000
TZOFFSETTO:+0100
TZNAME:Europe/Lisbon WEST
END:DAYLIGHT
BEGIN:DAYLIGHT
DTSTART:20200329T020000
RDATE:20201025T010000
TZOFFSETFROM:+0000
TZOFFSETTO:+0100
TZNAME:Europe/Lisbon WEST
END:DAYLIGHT
END:VTIMEZONE
BEGIN:VEVENT
UID:d640e7be00186ceae090a242cb90e2b7
CATEGORIES:Santos
SUMMARY:Santíssimo Nome de Jesus
DESCRIPTION;ENCODING=QUOTED-PRINTABLE:\n\nO nome de Jesus é grande pelo que significa. O nome de Jesus foi posto 
 por Maria e José, em obediência à ordem que lhe viera de Deus. Disse o Arca
 njo a Maria: "Eis que conceberás e darás à luz um filho, e lhe porás o nome
  de Jesus". (Lc. 1,31). Quando o Anjo apareceu a São José foram estas as su
 as palavras: "Não temas receber Maria, tua mulher, porque o que nela se ger
 ou, é obra do Espírito Santo. E dará à luz um filho, e lhe porás o nome de 
 Jesus". (Mt. 1,20). \n\n\nO Santíssimo Nome de Jesus, é um nome adorável, q
 ue significa salvação, foi predito pelos profetas, que chamaram ao Messias 
 "Emanuel", que significa Deus connosco. O Santíssimo Nome de Jesus, também 
 pode ser invocado como, admirável, conselheiro, Deus forte, Pai do futuro s
 éculo, Príncipe da paz". \n\n\nO Santíssimo Nome de Jesus é o nome próprio 
 do Verbo encarnado, é o nome que relembra a maior das obras de Deus e o mai
 or benefício que d'Ele nos veio. O nome de Deus Redentor inclui o de Deus C
 riador, se bem que este não contenha aquele, pois a Redenção supõe a criaçã
 o e a criação não encerra em si necessariamente a Redenção.\n\n\nO Santíssi
 mo Nome de Jesus relembra-nos não só o Salvador e a salvação, que por Ele n
 os veio, mas também o modo admirável por que fomos salvos. Poderia salvar-n
 os por meio de uma só palavra, como por uma palavra só criou o mundo; mas q
 uis tomar sobre si os nossos pecados; quis encarnar-se, nascer num estábulo
 , viver pobre, sofrer, ser crucificado e morrer por nós.  Aniquilou-se a si
  mesmo, tomando a forma de servo. Humilhou-se a si mesmo, feito obediente a
 té à morte e morte de cruz.\n\n\nO Santíssimo Nome de Jesus produz admiráve
 is feitos naqueles que devotamente o invocam. "Todo aquele que invocar o no
 me do Senhor, será salvo". \n\n\nO Santíssimo Nome de Jesus dá vigor aos má
 rtires e a todos os fiéis que lutam pela fé. Fá-los triunfas generosamente 
 de todos os obstáculos, de todas as perseguições e da própria morte. \n\n\n
 Pronunciemos muitas vezes em vida este Nome de salvação, para que o possamo
 s pronunciar na morte, qual penhor seguro da felicidade eterna.\n
DTSTAMP:20260424T025620Z
DTSTART;TZID=Europe/Lisbon;VALUE=DATE:20140103
DTEND;TZID=Europe/Lisbon;VALUE=DATE:20140104
SEQUENCE:0
RRULE:FREQ=YEARLY;COUNT=100;INTERVAL=1;BYYEARDAY=+3
TRANSP:OPAQUE
END:VEVENT
END:VCALENDAR