BEGIN:VCALENDAR
VERSION:2.0
PRODID:-//jEvents 2.0 for Joomla//EN
CALSCALE:GREGORIAN
METHOD:PUBLISH
BEGIN:VTIMEZONE
TZID:Europe/Lisbon
BEGIN:STANDARD
DTSTART:20151025T010000
RDATE:20160327T020000
TZOFFSETFROM:+0100
TZOFFSETTO:+0000
TZNAME:Europe/Lisbon WET
END:STANDARD
BEGIN:STANDARD
DTSTART:20161030T010000
RDATE:20170326T020000
TZOFFSETFROM:+0100
TZOFFSETTO:+0000
TZNAME:Europe/Lisbon WET
END:STANDARD
BEGIN:STANDARD
DTSTART:20171029T010000
RDATE:20180325T020000
TZOFFSETFROM:+0100
TZOFFSETTO:+0000
TZNAME:Europe/Lisbon WET
END:STANDARD
BEGIN:STANDARD
DTSTART:20181028T010000
RDATE:20190331T020000
TZOFFSETFROM:+0100
TZOFFSETTO:+0000
TZNAME:Europe/Lisbon WET
END:STANDARD
BEGIN:STANDARD
DTSTART:20191027T010000
RDATE:20200329T020000
TZOFFSETFROM:+0100
TZOFFSETTO:+0000
TZNAME:Europe/Lisbon WET
END:STANDARD
BEGIN:STANDARD
DTSTART:20201025T010000
RDATE:20210328T020000
TZOFFSETFROM:+0100
TZOFFSETTO:+0000
TZNAME:Europe/Lisbon WET
END:STANDARD
BEGIN:DAYLIGHT
DTSTART:20150416T000000
RDATE:20151025T010000
TZOFFSETFROM:+0000
TZOFFSETTO:+0100
TZNAME:Europe/Lisbon WEST
END:DAYLIGHT
BEGIN:DAYLIGHT
DTSTART:20160327T020000
RDATE:20161030T010000
TZOFFSETFROM:+0000
TZOFFSETTO:+0100
TZNAME:Europe/Lisbon WEST
END:DAYLIGHT
BEGIN:DAYLIGHT
DTSTART:20170326T020000
RDATE:20171029T010000
TZOFFSETFROM:+0000
TZOFFSETTO:+0100
TZNAME:Europe/Lisbon WEST
END:DAYLIGHT
BEGIN:DAYLIGHT
DTSTART:20180325T020000
RDATE:20181028T010000
TZOFFSETFROM:+0000
TZOFFSETTO:+0100
TZNAME:Europe/Lisbon WEST
END:DAYLIGHT
BEGIN:DAYLIGHT
DTSTART:20190331T020000
RDATE:20191027T010000
TZOFFSETFROM:+0000
TZOFFSETTO:+0100
TZNAME:Europe/Lisbon WEST
END:DAYLIGHT
BEGIN:DAYLIGHT
DTSTART:20200329T020000
RDATE:20201025T010000
TZOFFSETFROM:+0000
TZOFFSETTO:+0100
TZNAME:Europe/Lisbon WEST
END:DAYLIGHT
END:VTIMEZONE
BEGIN:VEVENT
UID:6f20332d49c28eac77a922533bed894c
CATEGORIES:Santos
SUMMARY:Santa Bernardette
DESCRIPTION;ENCODING=QUOTED-PRINTABLE:Santa Bernardette Soubirous nasceu a 7 de janeiro de 1844 em Boly, Lourdes 
 (França) e faleceu em Nevers (França) a 16 de abril de 1879. Os pais de San
 ta Bernardette (Francisco Soubirous e Luísa Castèrot) não eram pobres e o s
 eu pai era moleiro e locatário do moinho de Boly. O negócio corria bem e Sa
 nta Bernardette é a mais velha de 9 crianças, das quais apenas 4 atingirão 
 a idade adulta. Santa Bernardette foi batizada como Marie-Bernarde porém os
  seus familiares chamavam-lhe Bernardette, diminutivo do nome Marie-Bernard
 e. De saúde frágil, em novembro de 1844, Santa Bernardette é enviada para B
 artrès, para a casa de uma ama, a fim de se restabelecer. Em abril de 1846 
 Santa Bernardette retorna ao moinho. Os seus pais são pessoas boas, piedosa
 s e generosas com os pobres. Mais tarde, os momentos difíceis virão: a mort
 e dos irmãos e irmãs e ferimentos graves do pai no trabalho, que acabará po
 r perder um olho.\nA "revolução industrial" fará o resto. O moinho deixa de
  ser rentável e a família de Santa Bernardette deixa de conseguir pagar o a
 luguer do mesmo sendo expulsa em junho de 1854. Francisco Soubirous aluga u
 m moinho menor, mais barato, mas menos lucrativo. O pai de Santa Bernardett
 e vê-se então obrigado a trabalhar para outros enquanto a sua mãe vai fazer
  o trabalho doméstico e ficando Santa Bernadette fica em casa a cuidar dos 
 irmãos. Santa Bernardette não vai à escola nem ao catecismo e, portanto, nã
 o pode fazer sua primeira comunhão.\nEm 1854, Santa Bernadette sofria de có
 lera, ficando muito debilitada e extremamente enfraquecida.\nEm fevereiro d
 e 1857, o primo do seu pai, Sajous, concordou em alojá-los gratuitamente nu
 ma sala chamada "Le Cachot". &ldquo;Le Cachot&rdquo; é uma velha cela de pr
 isioneiros; um quarto, escuro e insalubre, que servirá de cozinha e espaço 
 para 6 pessoas. De setembro de 1857 a janeiro de 1858, Santa Bernadette vol
 tou a Bartrès com sua enfermeira. Santa Bernardette cuida das tarefas domés
 ticas e mantém as ovelhas; começa a aprender o catecismo e a preparar a sua
  primeira comunhão.\nEm janeiro de 1858 Santa Bernardette volta para junto 
 dos pais. A partir dessa altura Santa Bernardette frequenta o hospício das 
 irmãs que também funcionam como escola cristã de Nevers. Santa Bernardette 
 vai também frequentemente com a irmã e as amigas da sua idade, apanhar lenh
 a para se aquecerem em casa.\nNo dia 11 de fevereiro de 1858, em Lourdes, S
 anta Bernadette viu a aparição de uma "senhora" envolta em luz na gruta den
 ominada massabielle ("pedra velha" ou "rocha velha"), junto à margem do rio
  Gave. Nossa Senhora de Lourdes (http://www.paroquia-almancil.pt/utilidades
 /vida-dos-santos/icalrepeat.detail/2018/02/11/12753/-/nossa-senhora-de-lour
 des.html) apareceu por 18 vezes a Santa Bernardette.\nNo ano de 1860, Santa
  Bernadette foi para o Hospital das Irmãs da Caridade de Nevers, em Lourdes
 . Ali recebeu instrução e, em 1861, fez pelo próprio punho o primeiro relat
 o escrito das visões de Nossa Senhora. No dia 18 de janeiro de 1862, Monsen
 hor Bertrand Sévère Laurence, Bispo de Tarbes, reconheceu pública e oficial
 mente a realidade do fato das aparições.\nEm julho de 1866, Santa Bernadett
 e inicia o noviciado no convento de Saint-Gildard e, em 30 de outubro de 18
 67, faz a profissão de religiosa da Congregação das Irmãs da Caridade de Ne
 vers. Dedicou-se à enfermagem até ser imobilizada, em 1878, pela doença que
  lhe causou a morte.\nFaleceu a 16 de abril de 1879 em Nevers.\nSanta Berna
 rdette foi canonizada pelo Papa Pio XI a 8 de dezembro de 1933.\n \nSanta B
 ernardette rogai por nós!\n
DTSTAMP:20260422T085536Z
DTSTART;TZID=Europe/Lisbon;VALUE=DATE:20160416
DTEND;TZID=Europe/Lisbon;VALUE=DATE:20160417
SEQUENCE:0
RRULE:FREQ=YEARLY;COUNT=100;INTERVAL=1;BYYEARDAY=-260
TRANSP:OPAQUE
END:VEVENT
END:VCALENDAR