BEGIN:VCALENDAR
VERSION:2.0
PRODID:-//jEvents 2.0 for Joomla//EN
CALSCALE:GREGORIAN
METHOD:PUBLISH
BEGIN:VTIMEZONE
TZID:Europe/Lisbon
BEGIN:STANDARD
DTSTART:20130113T000000
RDATE:20130331T020000
TZOFFSETFROM:+0100
TZOFFSETTO:+0000
TZNAME:Europe/Lisbon WET
END:STANDARD
BEGIN:STANDARD
DTSTART:20131027T010000
RDATE:20140330T020000
TZOFFSETFROM:+0100
TZOFFSETTO:+0000
TZNAME:Europe/Lisbon WET
END:STANDARD
BEGIN:STANDARD
DTSTART:20141026T010000
RDATE:20150329T020000
TZOFFSETFROM:+0100
TZOFFSETTO:+0000
TZNAME:Europe/Lisbon WET
END:STANDARD
BEGIN:STANDARD
DTSTART:20151025T010000
RDATE:20160327T020000
TZOFFSETFROM:+0100
TZOFFSETTO:+0000
TZNAME:Europe/Lisbon WET
END:STANDARD
BEGIN:STANDARD
DTSTART:20161030T010000
RDATE:20170326T020000
TZOFFSETFROM:+0100
TZOFFSETTO:+0000
TZNAME:Europe/Lisbon WET
END:STANDARD
BEGIN:STANDARD
DTSTART:20171029T010000
RDATE:20180325T020000
TZOFFSETFROM:+0100
TZOFFSETTO:+0000
TZNAME:Europe/Lisbon WET
END:STANDARD
BEGIN:STANDARD
DTSTART:20181028T010000
RDATE:20190331T020000
TZOFFSETFROM:+0100
TZOFFSETTO:+0000
TZNAME:Europe/Lisbon WET
END:STANDARD
BEGIN:STANDARD
DTSTART:20191027T010000
RDATE:20200329T020000
TZOFFSETFROM:+0100
TZOFFSETTO:+0000
TZNAME:Europe/Lisbon WET
END:STANDARD
BEGIN:STANDARD
DTSTART:20201025T010000
RDATE:20210328T020000
TZOFFSETFROM:+0100
TZOFFSETTO:+0000
TZNAME:Europe/Lisbon WET
END:STANDARD
BEGIN:DAYLIGHT
DTSTART:20130331T020000
RDATE:20131027T010000
TZOFFSETFROM:+0000
TZOFFSETTO:+0100
TZNAME:Europe/Lisbon WEST
END:DAYLIGHT
BEGIN:DAYLIGHT
DTSTART:20140330T020000
RDATE:20141026T010000
TZOFFSETFROM:+0000
TZOFFSETTO:+0100
TZNAME:Europe/Lisbon WEST
END:DAYLIGHT
BEGIN:DAYLIGHT
DTSTART:20150329T020000
RDATE:20151025T010000
TZOFFSETFROM:+0000
TZOFFSETTO:+0100
TZNAME:Europe/Lisbon WEST
END:DAYLIGHT
BEGIN:DAYLIGHT
DTSTART:20160327T020000
RDATE:20161030T010000
TZOFFSETFROM:+0000
TZOFFSETTO:+0100
TZNAME:Europe/Lisbon WEST
END:DAYLIGHT
BEGIN:DAYLIGHT
DTSTART:20170326T020000
RDATE:20171029T010000
TZOFFSETFROM:+0000
TZOFFSETTO:+0100
TZNAME:Europe/Lisbon WEST
END:DAYLIGHT
BEGIN:DAYLIGHT
DTSTART:20180325T020000
RDATE:20181028T010000
TZOFFSETFROM:+0000
TZOFFSETTO:+0100
TZNAME:Europe/Lisbon WEST
END:DAYLIGHT
BEGIN:DAYLIGHT
DTSTART:20190331T020000
RDATE:20191027T010000
TZOFFSETFROM:+0000
TZOFFSETTO:+0100
TZNAME:Europe/Lisbon WEST
END:DAYLIGHT
BEGIN:DAYLIGHT
DTSTART:20200329T020000
RDATE:20201025T010000
TZOFFSETFROM:+0000
TZOFFSETTO:+0100
TZNAME:Europe/Lisbon WEST
END:DAYLIGHT
END:VTIMEZONE
BEGIN:VEVENT
UID:096049a362adebbe225ed2c1824a76d2
CATEGORIES:Santos
SUMMARY:Sabas (Savas) da Sérvia
DESCRIPTION;ENCODING=QUOTED-PRINTABLE:\n\n\nNasceu como príncipe Rastko Nemanjic, filho mais novo do príncipe Ste
 fan I Nemanjic, posteriormente S. Simeão (http://www.paroquia-almancil.pt/u
 tilidades/vida-dos-santos/icalrepeat.detail/2018/02/13/13355/-/sime%C3%A3o-
 pai-de-sabas.html).\nPara evitar o casamento Sabas passou grande parte do i
 nício da vida adulta como monge no monte Atos, na Grécia, onde ele e o pai 
 fundaram o mosteiro sérvio de Hilander. Regressou à Sérvia em 1207, levando
  ao final da guerra civil que estalara entre os seus irmãos. \nEm 1219 foi 
 nomeado primeiro arcebispo de Zica e líder da nova Igreja sérvia independen
 te.\nDepois de ter renunciado ao cargo de arcebispo em 1230, viajou bastant
 e. Morreu com pneumonia em 1237 na Bulgária.\n\nNascimento: ano 1174 d,C., 
 em Rastko na Sérvia\nMorte: ano 1237 d.C., em Trnovo, na Bulgária\n
DTSTAMP:20260420T224419Z
DTSTART;TZID=Europe/Lisbon;VALUE=DATE:20140114
DTEND;TZID=Europe/Lisbon;VALUE=DATE:20140115
SEQUENCE:0
RRULE:FREQ=YEARLY;COUNT=100;INTERVAL=1;BYYEARDAY=+14
TRANSP:OPAQUE
END:VEVENT
END:VCALENDAR