BEGIN:VCALENDAR
VERSION:2.0
PRODID:-//jEvents 2.0 for Joomla//EN
CALSCALE:GREGORIAN
METHOD:PUBLISH
BEGIN:VTIMEZONE
TZID:Europe/Lisbon
BEGIN:STANDARD
DTSTART:20130214T000000
RDATE:20130331T020000
TZOFFSETFROM:+0100
TZOFFSETTO:+0000
TZNAME:Europe/Lisbon WET
END:STANDARD
BEGIN:STANDARD
DTSTART:20131027T010000
RDATE:20140330T020000
TZOFFSETFROM:+0100
TZOFFSETTO:+0000
TZNAME:Europe/Lisbon WET
END:STANDARD
BEGIN:STANDARD
DTSTART:20141026T010000
RDATE:20150329T020000
TZOFFSETFROM:+0100
TZOFFSETTO:+0000
TZNAME:Europe/Lisbon WET
END:STANDARD
BEGIN:STANDARD
DTSTART:20151025T010000
RDATE:20160327T020000
TZOFFSETFROM:+0100
TZOFFSETTO:+0000
TZNAME:Europe/Lisbon WET
END:STANDARD
BEGIN:STANDARD
DTSTART:20161030T010000
RDATE:20170326T020000
TZOFFSETFROM:+0100
TZOFFSETTO:+0000
TZNAME:Europe/Lisbon WET
END:STANDARD
BEGIN:STANDARD
DTSTART:20171029T010000
RDATE:20180325T020000
TZOFFSETFROM:+0100
TZOFFSETTO:+0000
TZNAME:Europe/Lisbon WET
END:STANDARD
BEGIN:STANDARD
DTSTART:20181028T010000
RDATE:20190331T020000
TZOFFSETFROM:+0100
TZOFFSETTO:+0000
TZNAME:Europe/Lisbon WET
END:STANDARD
BEGIN:STANDARD
DTSTART:20191027T010000
RDATE:20200329T020000
TZOFFSETFROM:+0100
TZOFFSETTO:+0000
TZNAME:Europe/Lisbon WET
END:STANDARD
BEGIN:STANDARD
DTSTART:20201025T010000
RDATE:20210328T020000
TZOFFSETFROM:+0100
TZOFFSETTO:+0000
TZNAME:Europe/Lisbon WET
END:STANDARD
BEGIN:DAYLIGHT
DTSTART:20130331T020000
RDATE:20131027T010000
TZOFFSETFROM:+0000
TZOFFSETTO:+0100
TZNAME:Europe/Lisbon WEST
END:DAYLIGHT
BEGIN:DAYLIGHT
DTSTART:20140330T020000
RDATE:20141026T010000
TZOFFSETFROM:+0000
TZOFFSETTO:+0100
TZNAME:Europe/Lisbon WEST
END:DAYLIGHT
BEGIN:DAYLIGHT
DTSTART:20150329T020000
RDATE:20151025T010000
TZOFFSETFROM:+0000
TZOFFSETTO:+0100
TZNAME:Europe/Lisbon WEST
END:DAYLIGHT
BEGIN:DAYLIGHT
DTSTART:20160327T020000
RDATE:20161030T010000
TZOFFSETFROM:+0000
TZOFFSETTO:+0100
TZNAME:Europe/Lisbon WEST
END:DAYLIGHT
BEGIN:DAYLIGHT
DTSTART:20170326T020000
RDATE:20171029T010000
TZOFFSETFROM:+0000
TZOFFSETTO:+0100
TZNAME:Europe/Lisbon WEST
END:DAYLIGHT
BEGIN:DAYLIGHT
DTSTART:20180325T020000
RDATE:20181028T010000
TZOFFSETFROM:+0000
TZOFFSETTO:+0100
TZNAME:Europe/Lisbon WEST
END:DAYLIGHT
BEGIN:DAYLIGHT
DTSTART:20190331T020000
RDATE:20191027T010000
TZOFFSETFROM:+0000
TZOFFSETTO:+0100
TZNAME:Europe/Lisbon WEST
END:DAYLIGHT
BEGIN:DAYLIGHT
DTSTART:20200329T020000
RDATE:20201025T010000
TZOFFSETFROM:+0000
TZOFFSETTO:+0100
TZNAME:Europe/Lisbon WEST
END:DAYLIGHT
END:VTIMEZONE
BEGIN:VEVENT
UID:4fb024dd54a0e8c4a494e8b4c397c918
CATEGORIES:Santos
SUMMARY:Sigfrido de Suécia
DESCRIPTION;ENCODING=QUOTED-PRINTABLE:Sigfrido da Suécia, também é conhecido como Sigfried, Siegfrid, Siegfried o
 u Sigfridus e terá nascido em Glastonbury (Inglaterra) e falecido no ano de
  1045 em Växjö (Suécia), contudo estes dados não são dados como definitivos
 . Algumas biografias dão-no como morto em 1067. O certo é que Sigfrido foi 
 um dos primeiros missionários católicos na Suécia e um dos primeiros missio
 nários ingleses a estender o cristianismo àquele país. É considerado apósto
 lo das províncias de Smalanda e Gotlândia Ocidental, ambas na Suécia. É tam
 bém o padroeiro do País.\nOs dados dizem-nos que Sigfrido enviou os mission
 ários Ésquilo e Botuido para cristianizar a região do lago Mälaren.\nEntret
 anto Sigfrido terá chegado à localidade de Varend, na província de Smaland,
  proveniente da Dinamarca, com os seus três sobrinhos que foram assassinado
 s perto de Växjö, enquanto Sigfrido se encontrava em Västergötland. Crê-se 
 que Sigrido terá baptizado o rei Olof Skotkonung em 1008 em Västergötland. 
 Quando regressou a Värend, Sigrido da Suécia encontrou uma tina de madeira 
 flutuando num lago com as cabeças dos seus sobrinhos, e por isso é costume 
 vê-lo representado com mitra de bispo, um báculo e três cabeças na mão.\nSi
 gfrido continuou a realizar pregações e a construir igrejas em todo o sul d
 a Suécia, até morrer, em Växkö, onde repousam seus restos.\n
DTSTAMP:20260420T051444Z
DTSTART;TZID=Europe/Lisbon;VALUE=DATE:20140215
DTEND;TZID=Europe/Lisbon;VALUE=DATE:20140216
SEQUENCE:0
RRULE:FREQ=YEARLY;COUNT=100;INTERVAL=1;BYYEARDAY=+46
TRANSP:OPAQUE
END:VEVENT
END:VCALENDAR