BEGIN:VCALENDAR
VERSION:2.0
PRODID:-//jEvents 2.0 for Joomla//EN
CALSCALE:GREGORIAN
METHOD:PUBLISH
BEGIN:VTIMEZONE
TZID:Europe/Lisbon
BEGIN:STANDARD
DTSTART:20130213T000000
RDATE:20130331T020000
TZOFFSETFROM:+0100
TZOFFSETTO:+0000
TZNAME:Europe/Lisbon WET
END:STANDARD
BEGIN:STANDARD
DTSTART:20131027T010000
RDATE:20140330T020000
TZOFFSETFROM:+0100
TZOFFSETTO:+0000
TZNAME:Europe/Lisbon WET
END:STANDARD
BEGIN:STANDARD
DTSTART:20141026T010000
RDATE:20150329T020000
TZOFFSETFROM:+0100
TZOFFSETTO:+0000
TZNAME:Europe/Lisbon WET
END:STANDARD
BEGIN:STANDARD
DTSTART:20151025T010000
RDATE:20160327T020000
TZOFFSETFROM:+0100
TZOFFSETTO:+0000
TZNAME:Europe/Lisbon WET
END:STANDARD
BEGIN:STANDARD
DTSTART:20161030T010000
RDATE:20170326T020000
TZOFFSETFROM:+0100
TZOFFSETTO:+0000
TZNAME:Europe/Lisbon WET
END:STANDARD
BEGIN:STANDARD
DTSTART:20171029T010000
RDATE:20180325T020000
TZOFFSETFROM:+0100
TZOFFSETTO:+0000
TZNAME:Europe/Lisbon WET
END:STANDARD
BEGIN:STANDARD
DTSTART:20181028T010000
RDATE:20190331T020000
TZOFFSETFROM:+0100
TZOFFSETTO:+0000
TZNAME:Europe/Lisbon WET
END:STANDARD
BEGIN:STANDARD
DTSTART:20191027T010000
RDATE:20200329T020000
TZOFFSETFROM:+0100
TZOFFSETTO:+0000
TZNAME:Europe/Lisbon WET
END:STANDARD
BEGIN:STANDARD
DTSTART:20201025T010000
RDATE:20210328T020000
TZOFFSETFROM:+0100
TZOFFSETTO:+0000
TZNAME:Europe/Lisbon WET
END:STANDARD
BEGIN:DAYLIGHT
DTSTART:20130331T020000
RDATE:20131027T010000
TZOFFSETFROM:+0000
TZOFFSETTO:+0100
TZNAME:Europe/Lisbon WEST
END:DAYLIGHT
BEGIN:DAYLIGHT
DTSTART:20140330T020000
RDATE:20141026T010000
TZOFFSETFROM:+0000
TZOFFSETTO:+0100
TZNAME:Europe/Lisbon WEST
END:DAYLIGHT
BEGIN:DAYLIGHT
DTSTART:20150329T020000
RDATE:20151025T010000
TZOFFSETFROM:+0000
TZOFFSETTO:+0100
TZNAME:Europe/Lisbon WEST
END:DAYLIGHT
BEGIN:DAYLIGHT
DTSTART:20160327T020000
RDATE:20161030T010000
TZOFFSETFROM:+0000
TZOFFSETTO:+0100
TZNAME:Europe/Lisbon WEST
END:DAYLIGHT
BEGIN:DAYLIGHT
DTSTART:20170326T020000
RDATE:20171029T010000
TZOFFSETFROM:+0000
TZOFFSETTO:+0100
TZNAME:Europe/Lisbon WEST
END:DAYLIGHT
BEGIN:DAYLIGHT
DTSTART:20180325T020000
RDATE:20181028T010000
TZOFFSETFROM:+0000
TZOFFSETTO:+0100
TZNAME:Europe/Lisbon WEST
END:DAYLIGHT
BEGIN:DAYLIGHT
DTSTART:20190331T020000
RDATE:20191027T010000
TZOFFSETFROM:+0000
TZOFFSETTO:+0100
TZNAME:Europe/Lisbon WEST
END:DAYLIGHT
BEGIN:DAYLIGHT
DTSTART:20200329T020000
RDATE:20201025T010000
TZOFFSETFROM:+0000
TZOFFSETTO:+0100
TZNAME:Europe/Lisbon WEST
END:DAYLIGHT
END:VTIMEZONE
BEGIN:VEVENT
UID:25e4a2ddf037ea0bb5d1fb352760c5c7
CATEGORIES:Santos
SUMMARY:São Valentim
DESCRIPTION;ENCODING=QUOTED-PRINTABLE:Desde 1969 que São Valentim não aparece no calendário dos santos, todavia a
  maioria das pessoas celebra hoje o dia de São Valentim e não os Santos Cir
 ilo e Metódio que são efetivamente celebrados a 14 de fevereiro.\nExistem p
 elo menos três santos de nome Valentim cujas histórias se fundiram ao longo
  dos anos. Daquilo que sabemos São Valentim, terá vivido entre os anos 175 
 e 273 e terá sido o primeiro bispo da cidade de Terni, na Itália.\nSão Vale
 ntim tornou-se muito popular pela sua &ldquo;santidade de vida, caridade e 
 humildade, pelo zelo apostólico zeloso e pelos milagres&rdquo;.\nConta-se q
 ue São Valentim viveu em Roma no tempo do imperador Cláudio II, o Gótico. O
  Império enfrentava vários problemas, com um grande número batalhas perdida
 s. O imperador atribuiu a culpa aos soldados solteiros pois dizia que os so
 lteiros eram menos ousados nas batalhas e quando era feridos levemente pedi
 am logo dispensa. Assim conseguiam um afastamento e, quando voltavam, estav
 am casados. Uma vez casados, não se arriscavam mais, com a intenção de volt
 ar vivos para as suas mulheres. Segundo o imperador Cláudio II, isso enfraq
 uecia as tropas e assim o imperador proibiu o casamento dos soldados.\nSão 
 Valentim considerou injusta a ordem do imperador e continuou a celebrar cas
 amentos secretamente. Quando o imperador soube, mandou prender São Valentim
  e interrogou-o diante do povo. As respostas de São Valentim defendendo o m
 atrimónio como união sagrada, querida por Deus e sacramento impressionaram 
 o imperador e todo o povo. Por isso, São Valentim foi enviado para a prisão
  na casa do prefeito de Roma onde todos eram pagãos.\nUma das filhas do pre
 feito era cega e São Valentim prometeu aos familiares que pediria a Jesus C
 risto a cura da rapariga. Alguns dias depois a jovem estava curada e toda a
  família do prefeito se converteu ao cristianismo. O imperador não gostou e
  condenou-o à morte.\nDiz-se ainda que ao lado da igreja havia um enorme ca
 mpo e um belo jardim. São Valentim era visto a cuidar das rosas do jardim q
 uando não estava a trabalhar na igreja ou a atender algum doente. À tarde, 
 o santo abria o jardim para as crianças brincarem. Ao pôr do sol São Valent
 im abençoava cada criança e dava-lhes uma flor, para que fossem levadas às 
 suas mães. Ele queria, com isso, que as crianças fossem diretas para casa e
  alimentassem o respeito e o amor pelos pais.\nSão Valentim, tinha o dom ex
 traordinário do conselho, ficou famoso por conseguir reconciliar inúmeros c
 asais de namorados. Certo dia, ouviu dois jovens namorados a discutir ao la
 do de seu jardim e foi ter com eles. São Valentim aproximou-se com uma lind
 a rosa na mão, o capuz sobre a cabeça, o semblante sereno e sorridente. A f
 igura daquele bom idoso e a delicadeza da rosa acalmou os dois namorados. S
 ão Valentim pediu-lhes que os dois segurassem o caule da rosa com todo cuid
 ado para não se espetarem. Eles assim o fizeram. Depois, o santo explicou-l
 hes a beleza do sacramento do matrimónio.\nSão Valentim ter-lhes-á dito:\n 
 &ldquo;As rosas são lindas, perfumadas, delicadas, mas tem espinhos. E elas
  não vivem sem espinhos. Assim também são as diferenças entre o casal. É pr
 eciso conhece-las, respeita-las e trata-las com delicadeza para que nenhum 
 dos cônjuges seja ferido. Agindo assim, serão felizes e as brigas desaparec
 erão.&rdquo; \nO jovem casal aprendeu a lição. Pouco tempo depois, o santo 
 bispo celebrava o casamento dos dois. Depois disso, sua fama de casamenteir
 o se espalhou.\nSão Valentim foi preso por ordem do imperador Aureliano e m
 orto a 14 de fevereiro de 273. Foi enterrado num cemitério a céu aberto até
  que três crentes exumaram o corpo e o levaram para Terni, para o sepultare
 m com dignidade.\nSão Valentim é o padroeiro dos noivos e dos namorados por
  definição do Papa Gelásio I (papa entre 492 e 496).\nEm 1969, o Papa Paulo
  VI publicou uma carta apostólica em que aprovou o novo calendário dos sant
 os (após o Concílio Vaticano II). Na carta, o Papa explica que vários santo
 s acabaram por ser retirados do calendário, e outros tornaram-se de memória
  facultativa ou passaram a ser celebrados apenas em alguns locais. Entre os
  santos removidos do calendário estava São Valentim, que até àquele ano foi
  oficialmente celebrado pela Igreja a 14 de fevereiro. Segundo a Ecclesia, 
 a renovação do calendário resultou de uma &ldquo;decisão de reformar as fes
 tas dos santos que tiveram origem em lendas&rdquo;.\nContudo, um pouco por 
 todo o lado São Valentim é recordado e festejado.\n \nSão Valentim, rogai p
 or nós!\n
DTSTAMP:20260420T134408Z
DTSTART;TZID=Europe/Lisbon;VALUE=DATE:20140214
DTEND;TZID=Europe/Lisbon;VALUE=DATE:20140215
SEQUENCE:0
RRULE:FREQ=YEARLY;COUNT=100;INTERVAL=1;BYYEARDAY=+45
TRANSP:OPAQUE
END:VEVENT
END:VCALENDAR