BEGIN:VCALENDAR
VERSION:2.0
PRODID:-//jEvents 2.0 for Joomla//EN
CALSCALE:GREGORIAN
METHOD:PUBLISH
BEGIN:VTIMEZONE
TZID:Europe/Lisbon
BEGIN:STANDARD
DTSTART:20130212T000000
RDATE:20130331T020000
TZOFFSETFROM:+0100
TZOFFSETTO:+0000
TZNAME:Europe/Lisbon WET
END:STANDARD
BEGIN:STANDARD
DTSTART:20131027T010000
RDATE:20140330T020000
TZOFFSETFROM:+0100
TZOFFSETTO:+0000
TZNAME:Europe/Lisbon WET
END:STANDARD
BEGIN:STANDARD
DTSTART:20141026T010000
RDATE:20150329T020000
TZOFFSETFROM:+0100
TZOFFSETTO:+0000
TZNAME:Europe/Lisbon WET
END:STANDARD
BEGIN:STANDARD
DTSTART:20151025T010000
RDATE:20160327T020000
TZOFFSETFROM:+0100
TZOFFSETTO:+0000
TZNAME:Europe/Lisbon WET
END:STANDARD
BEGIN:STANDARD
DTSTART:20161030T010000
RDATE:20170326T020000
TZOFFSETFROM:+0100
TZOFFSETTO:+0000
TZNAME:Europe/Lisbon WET
END:STANDARD
BEGIN:STANDARD
DTSTART:20171029T010000
RDATE:20180325T020000
TZOFFSETFROM:+0100
TZOFFSETTO:+0000
TZNAME:Europe/Lisbon WET
END:STANDARD
BEGIN:STANDARD
DTSTART:20181028T010000
RDATE:20190331T020000
TZOFFSETFROM:+0100
TZOFFSETTO:+0000
TZNAME:Europe/Lisbon WET
END:STANDARD
BEGIN:STANDARD
DTSTART:20191027T010000
RDATE:20200329T020000
TZOFFSETFROM:+0100
TZOFFSETTO:+0000
TZNAME:Europe/Lisbon WET
END:STANDARD
BEGIN:STANDARD
DTSTART:20201025T010000
RDATE:20210328T020000
TZOFFSETFROM:+0100
TZOFFSETTO:+0000
TZNAME:Europe/Lisbon WET
END:STANDARD
BEGIN:DAYLIGHT
DTSTART:20130331T020000
RDATE:20131027T010000
TZOFFSETFROM:+0000
TZOFFSETTO:+0100
TZNAME:Europe/Lisbon WEST
END:DAYLIGHT
BEGIN:DAYLIGHT
DTSTART:20140330T020000
RDATE:20141026T010000
TZOFFSETFROM:+0000
TZOFFSETTO:+0100
TZNAME:Europe/Lisbon WEST
END:DAYLIGHT
BEGIN:DAYLIGHT
DTSTART:20150329T020000
RDATE:20151025T010000
TZOFFSETFROM:+0000
TZOFFSETTO:+0100
TZNAME:Europe/Lisbon WEST
END:DAYLIGHT
BEGIN:DAYLIGHT
DTSTART:20160327T020000
RDATE:20161030T010000
TZOFFSETFROM:+0000
TZOFFSETTO:+0100
TZNAME:Europe/Lisbon WEST
END:DAYLIGHT
BEGIN:DAYLIGHT
DTSTART:20170326T020000
RDATE:20171029T010000
TZOFFSETFROM:+0000
TZOFFSETTO:+0100
TZNAME:Europe/Lisbon WEST
END:DAYLIGHT
BEGIN:DAYLIGHT
DTSTART:20180325T020000
RDATE:20181028T010000
TZOFFSETFROM:+0000
TZOFFSETTO:+0100
TZNAME:Europe/Lisbon WEST
END:DAYLIGHT
BEGIN:DAYLIGHT
DTSTART:20190331T020000
RDATE:20191027T010000
TZOFFSETFROM:+0000
TZOFFSETTO:+0100
TZNAME:Europe/Lisbon WEST
END:DAYLIGHT
BEGIN:DAYLIGHT
DTSTART:20200329T020000
RDATE:20201025T010000
TZOFFSETFROM:+0000
TZOFFSETTO:+0100
TZNAME:Europe/Lisbon WEST
END:DAYLIGHT
END:VTIMEZONE
BEGIN:VEVENT
UID:afbef5d9ff4d29e1f9d4e4f0c20b619e
CATEGORIES:Santos
SUMMARY:Beato Jordão de Saxónia
DESCRIPTION;ENCODING=QUOTED-PRINTABLE:Beato Jordão de Saxónia também é conhecido como beato Jordano nasceu no cas
 telo de Burgberg, Dassel (atual Alemanha) entre 1180 e 1190 e faleceu na co
 sta da Síria a 13 de fevereiro de 1237.\nEra filho dos condes do Ebersteins
  e por isso no ano de 1210 foi estudar para a Universidade de Paris. Lá est
 uda matemática, literatura, filosofia, direito canónico, sagrada escritura 
 e teologia.\nNo verão de 1219, conhece São Domingos de Gusmão (http://www.p
 aroquia-almancil.pt/utilidades/vida-dos-santos/icalrepeat.detail/2018/08/08
 /15589/-/s-domingos.html) cujas pregações começa a frequentar. A pregação d
 e Reginaldo de Orleães (http://www.paroquia-almancil.pt/utilidades/vida-dos
 -santos/icalrepeat.detail/2018/02/12/13011/-/b-reginaldo-de-orle%C3%A3es.ht
 ml) dá a Jordão de Saxónia o último impulso para ingressar na Ordem dos Pre
 gadores, fundada por São Domingos de Gusmão.\nNa quarta-feira de cinzas do 
 ano seguinte (1220), Beato Jordão de Saxónia toma o hábito dos dominicanos.
  No mesmo ano participa no primeiro Capítulo Geral da Ordem, que se celebro
 u em Bolonha (Itália). O Capítulo Geral ordena-lhe que, em Paris, comece a 
 ensinar Sagrada Escritura no seu convento de Saint Jacques em França. No an
 o seguinte volta ao Capítulo Geral e São Domingos entrega-lhe a Província d
 a Lombardia, que o próprio (São Domingos) governava. Com a morte de São Dom
 ingos de Gusmão, o Beato Jordão da Saxónia é eleito Superior da Ordem no an
 o de 1222, cargo que ocupou durante 15 anos.\nComo o seu antecessor, Jordão
  da Saxónia era famoso por ser um disciplinador severo cujo entusiasmo para
  com a regra era temperado com bondade.\nA sua pregação sobre Jesus Cristo 
 atraiu à Ordem um grande número de doutores, professores, diversos eruditos
  e conotados estudantes de diferentes cidades. Finalmente embora extenuado 
 pela sua pregação itinerante, visitou várias províncias dominicanas, entre 
 elas as da Terra Santa. Visitou vários outros lugares e por fim, embarcou n
 a Síria rumo a Nápoles, mas quando se encontravam perto da costa da Palesti
 na a embarcação foi acometida por uma furiosa tempestade, que a fez naufrag
 ar.\nFaleceu a 13 de fevereiro de 1237, juntamente com outros dominicanos.\
 nFoi beatificado pelo papa Leão XII a 10 de maio de 1826.\nContribuiu larga
 mente para a propagação da Ordem dos Pregadores; quando assumiu o governo d
 a Ordem esta era constituída por 8 províncias 8, 30 conventos e 300 frades 
 300. Quando faleceu a ordem contava com 12 províncias, 300 conventos e 3000
  frades.\n
DTSTAMP:20260420T015003Z
DTSTART;TZID=Europe/Lisbon;VALUE=DATE:20140213
DTEND;TZID=Europe/Lisbon;VALUE=DATE:20140214
SEQUENCE:0
RRULE:FREQ=YEARLY;COUNT=100;INTERVAL=1;BYYEARDAY=+44
TRANSP:OPAQUE
END:VEVENT
END:VCALENDAR