BEGIN:VCALENDAR
VERSION:2.0
PRODID:-//jEvents 2.0 for Joomla//EN
CALSCALE:GREGORIAN
METHOD:PUBLISH
BEGIN:VTIMEZONE
TZID:Europe/Lisbon
BEGIN:STANDARD
DTSTART:20130210T000000
RDATE:20130331T020000
TZOFFSETFROM:+0100
TZOFFSETTO:+0000
TZNAME:Europe/Lisbon WET
END:STANDARD
BEGIN:STANDARD
DTSTART:20131027T010000
RDATE:20140330T020000
TZOFFSETFROM:+0100
TZOFFSETTO:+0000
TZNAME:Europe/Lisbon WET
END:STANDARD
BEGIN:STANDARD
DTSTART:20141026T010000
RDATE:20150329T020000
TZOFFSETFROM:+0100
TZOFFSETTO:+0000
TZNAME:Europe/Lisbon WET
END:STANDARD
BEGIN:STANDARD
DTSTART:20151025T010000
RDATE:20160327T020000
TZOFFSETFROM:+0100
TZOFFSETTO:+0000
TZNAME:Europe/Lisbon WET
END:STANDARD
BEGIN:STANDARD
DTSTART:20161030T010000
RDATE:20170326T020000
TZOFFSETFROM:+0100
TZOFFSETTO:+0000
TZNAME:Europe/Lisbon WET
END:STANDARD
BEGIN:STANDARD
DTSTART:20171029T010000
RDATE:20180325T020000
TZOFFSETFROM:+0100
TZOFFSETTO:+0000
TZNAME:Europe/Lisbon WET
END:STANDARD
BEGIN:STANDARD
DTSTART:20181028T010000
RDATE:20190331T020000
TZOFFSETFROM:+0100
TZOFFSETTO:+0000
TZNAME:Europe/Lisbon WET
END:STANDARD
BEGIN:STANDARD
DTSTART:20191027T010000
RDATE:20200329T020000
TZOFFSETFROM:+0100
TZOFFSETTO:+0000
TZNAME:Europe/Lisbon WET
END:STANDARD
BEGIN:STANDARD
DTSTART:20201025T010000
RDATE:20210328T020000
TZOFFSETFROM:+0100
TZOFFSETTO:+0000
TZNAME:Europe/Lisbon WET
END:STANDARD
BEGIN:DAYLIGHT
DTSTART:20130331T020000
RDATE:20131027T010000
TZOFFSETFROM:+0000
TZOFFSETTO:+0100
TZNAME:Europe/Lisbon WEST
END:DAYLIGHT
BEGIN:DAYLIGHT
DTSTART:20140330T020000
RDATE:20141026T010000
TZOFFSETFROM:+0000
TZOFFSETTO:+0100
TZNAME:Europe/Lisbon WEST
END:DAYLIGHT
BEGIN:DAYLIGHT
DTSTART:20150329T020000
RDATE:20151025T010000
TZOFFSETFROM:+0000
TZOFFSETTO:+0100
TZNAME:Europe/Lisbon WEST
END:DAYLIGHT
BEGIN:DAYLIGHT
DTSTART:20160327T020000
RDATE:20161030T010000
TZOFFSETFROM:+0000
TZOFFSETTO:+0100
TZNAME:Europe/Lisbon WEST
END:DAYLIGHT
BEGIN:DAYLIGHT
DTSTART:20170326T020000
RDATE:20171029T010000
TZOFFSETFROM:+0000
TZOFFSETTO:+0100
TZNAME:Europe/Lisbon WEST
END:DAYLIGHT
BEGIN:DAYLIGHT
DTSTART:20180325T020000
RDATE:20181028T010000
TZOFFSETFROM:+0000
TZOFFSETTO:+0100
TZNAME:Europe/Lisbon WEST
END:DAYLIGHT
BEGIN:DAYLIGHT
DTSTART:20190331T020000
RDATE:20191027T010000
TZOFFSETFROM:+0000
TZOFFSETTO:+0100
TZNAME:Europe/Lisbon WEST
END:DAYLIGHT
BEGIN:DAYLIGHT
DTSTART:20200329T020000
RDATE:20201025T010000
TZOFFSETFROM:+0000
TZOFFSETTO:+0100
TZNAME:Europe/Lisbon WEST
END:DAYLIGHT
END:VTIMEZONE
BEGIN:VEVENT
UID:91b4a82f80b8e5a12fbb8027af4064e9
CATEGORIES:Santos
SUMMARY:São Bento de Aniano
DESCRIPTION;ENCODING=QUOTED-PRINTABLE:São Bento de Aniane (ou Aniano em português), nasceu por volta do ano 750 n
 o Império Carolíngio (atual França) e faleceu a 12 de fevereiro de 821 em A
 ix-la-Chapelle (França). Era filho do conde de Maguelone (França). De orige
 m visigoda, São Bento de Aniane foi batizado como Witiza. A sua educação oc
 orreu na corte do Rei franco Pépin le Bref, e teve como companheiros os sob
 rinhos do rei, Adalhard e Wala. Tornou-se o escansão da rainha, Bertrade de
  Laon e permaneceu na corte de Carlomagno após a morte de Pepin.\nNo ano de
  773, São Bento de Aniane participou da expedição contra os Lombardos na It
 ália e São Bento de Aniane parecia estar destinado a uma brilhante carreira
  militar.\nNo ano de 774 ou 775, depois de quase se ter afogado ao tentar s
 alvar um irmão de se afogar, perto de Pavia, São Bento de Aniane, ainda com
  o nome de Witiza tornou-se monge na Abadia de Saint-Seine, a 27 km ao nort
 e de Paris e a oeste da cidade de Dijon. Pensa-se que terá sido nessa ocasi
 ão que renunciou ao seu nome gótico para se tornar, na religião, "o bem-ave
 nturado" ou irmão "Bento".\nNa Abadia de Saint-Seine, São Bento de Aniane m
 ostrou um rigoroso ascetismo e estudou as muitas regras em uso, além da de 
 São Bento de Núrsia: regra de São Pacômio, regra de São Basílio e regra de 
 São Columbano.\nSão Bento de Aniane passou a tratar da adega do mosteiro. P
 or volta de 780, a sua comunidade escolheu-o como abade, mas São Bento de A
 niane fugiu e instalou-se na região de Montpellier.\nSão Bento de Aniane le
 vou uma vida de anacoreta (monges que vivem em retiro dedicando-se à oração
  e à produção de textos litúrgicos) e fundou no ano de 782 a abadia de Ania
 ne (26 km a oeste de Montpellier) juntamente com os seus discípulos. Para e
 ste mosteiro São Bento de Aniane escolheu o cenobitismo (monges que vivem e
 m comunidade, dividindo o tempo em trabalho, oração e liturgia).\nGraças à 
 sua abadia São Bento de Aniane adquiriu notoriedade e prestígio consideráve
 is. Na primavera de 792, São Bento de Aniane foi a Ratisbona com Carlos Mag
 no e obteve do imperador cartas de imunidade e reconhecimento da liberdade 
 de eleição do abade.\nO desenvolvimento do mosteiro, no entanto, foi dificu
 ltado pelo rigor exigido por São Bento de Aniane. Então o santo voltou-se p
 ara a regra de São Bento de Núrsia, que desejava reforçar em sentido estrit
 o: modificando e completando esta regra por meio de Columbano e elaborou a 
 "concordância das regras" apoiando-se nos seus comentários sobre a regra de
  São Bento (http://www.paroquia-almancil.pt/utilidades/vida-dos-santos/ical
 repeat.detail/2018/07/11/57946/-/s-bento.html).\nO mosteiro logo contou mai
 s de trezentos monges, 12 que se espalharam por todo o Império para espalha
 r o domínio beneditino, reformar as antigas abadias e fundar novos mosteiro
 s.\nEm 792, a abadia tornou-se real e a influência que este novo estatuto c
 onferiu à abadia foi usada por São Bento de Aniane para propagar o benediti
 smo na Aquitânia, Languedoc, Auvergne, Borgonha. A nova regra interessou mu
 ito a Luís I (de França), que queria alcançar a unidade religiosa do Impéri
 o. Assim o rei chamou o abade d'Aniane a Inden, perto de Aix-la-Chapelle. L
 á, São Bento de Aniane preparou, a pedido do rei, dois sínodos que lidam co
 m a reforma do monaquismo.\nApoiado pelo imperador e secundado por Alcuin, 
 padre de Saint-Martin de Tours e por Théodulf, bispo de Orleans, São Bento 
 de Aniane aplicou com grande inteligência a regra beneditina em mais de vin
 te mosteiros na Aquitânia. O sul do Loire também se beneficiou pouco a pouc
 o dessa reforma.As mudanças feitas por São Bento de Aniane espalharam-se ra
 pidamente na Saxónia (Alemanha) e na Itália de 820-830. A vida beneditina g
 radualmente estabeleceu-se na Europa.\nQuando Luís I se tornou imperador, a
 pressou-se a instalar o seu conselheiro e amigo Bento de Aniane num mosteir
 o que acabara de encontrar para ele em Inden ou Inda (agora abadia Kornelim
 ünster), não muito longe do palácio imperial (a cerca de dez quilómetros de
  Aix-la-Chapelle), para colocá-lo na cabeça de todos os monges do seu impér
 io. Em 817, Luís I reuniu em Aix-la-Chapelle todos os abades do Império par
 a aceitar o capitulare monasticum preparado por São Bento de Aniane. O prop
 ósito desta constituição era regular e, em especial, unificar os diferentes
  estilos da vida monástica. O imperador, aderiu inteiramente a este projeto
  de purificação e proclamou sua aplicação em todo o Império.\nSão Bento de 
 Aniane morreu a 12 de fevereiro de 821 na sua abadia de Kornelimünster.\nFi
 cou conhecido como Segundo Bento.\n \nSão Bento de Aniane rogai por nós!\n
DTSTAMP:20260419T193748Z
DTSTART;TZID=Europe/Lisbon;VALUE=DATE:20140211
DTEND;TZID=Europe/Lisbon;VALUE=DATE:20140212
SEQUENCE:0
RRULE:FREQ=YEARLY;COUNT=100;INTERVAL=1;BYYEARDAY=+42
TRANSP:OPAQUE
END:VEVENT
END:VCALENDAR