BEGIN:VCALENDAR
VERSION:2.0
PRODID:-//jEvents 2.0 for Joomla//EN
CALSCALE:GREGORIAN
METHOD:PUBLISH
BEGIN:VTIMEZONE
TZID:Europe/Lisbon
BEGIN:STANDARD
DTSTART:20130209T000000
RDATE:20130331T020000
TZOFFSETFROM:+0100
TZOFFSETTO:+0000
TZNAME:Europe/Lisbon WET
END:STANDARD
BEGIN:STANDARD
DTSTART:20131027T010000
RDATE:20140330T020000
TZOFFSETFROM:+0100
TZOFFSETTO:+0000
TZNAME:Europe/Lisbon WET
END:STANDARD
BEGIN:STANDARD
DTSTART:20141026T010000
RDATE:20150329T020000
TZOFFSETFROM:+0100
TZOFFSETTO:+0000
TZNAME:Europe/Lisbon WET
END:STANDARD
BEGIN:STANDARD
DTSTART:20151025T010000
RDATE:20160327T020000
TZOFFSETFROM:+0100
TZOFFSETTO:+0000
TZNAME:Europe/Lisbon WET
END:STANDARD
BEGIN:STANDARD
DTSTART:20161030T010000
RDATE:20170326T020000
TZOFFSETFROM:+0100
TZOFFSETTO:+0000
TZNAME:Europe/Lisbon WET
END:STANDARD
BEGIN:STANDARD
DTSTART:20171029T010000
RDATE:20180325T020000
TZOFFSETFROM:+0100
TZOFFSETTO:+0000
TZNAME:Europe/Lisbon WET
END:STANDARD
BEGIN:STANDARD
DTSTART:20181028T010000
RDATE:20190331T020000
TZOFFSETFROM:+0100
TZOFFSETTO:+0000
TZNAME:Europe/Lisbon WET
END:STANDARD
BEGIN:STANDARD
DTSTART:20191027T010000
RDATE:20200329T020000
TZOFFSETFROM:+0100
TZOFFSETTO:+0000
TZNAME:Europe/Lisbon WET
END:STANDARD
BEGIN:STANDARD
DTSTART:20201025T010000
RDATE:20210328T020000
TZOFFSETFROM:+0100
TZOFFSETTO:+0000
TZNAME:Europe/Lisbon WET
END:STANDARD
BEGIN:DAYLIGHT
DTSTART:20130331T020000
RDATE:20131027T010000
TZOFFSETFROM:+0000
TZOFFSETTO:+0100
TZNAME:Europe/Lisbon WEST
END:DAYLIGHT
BEGIN:DAYLIGHT
DTSTART:20140330T020000
RDATE:20141026T010000
TZOFFSETFROM:+0000
TZOFFSETTO:+0100
TZNAME:Europe/Lisbon WEST
END:DAYLIGHT
BEGIN:DAYLIGHT
DTSTART:20150329T020000
RDATE:20151025T010000
TZOFFSETFROM:+0000
TZOFFSETTO:+0100
TZNAME:Europe/Lisbon WEST
END:DAYLIGHT
BEGIN:DAYLIGHT
DTSTART:20160327T020000
RDATE:20161030T010000
TZOFFSETFROM:+0000
TZOFFSETTO:+0100
TZNAME:Europe/Lisbon WEST
END:DAYLIGHT
BEGIN:DAYLIGHT
DTSTART:20170326T020000
RDATE:20171029T010000
TZOFFSETFROM:+0000
TZOFFSETTO:+0100
TZNAME:Europe/Lisbon WEST
END:DAYLIGHT
BEGIN:DAYLIGHT
DTSTART:20180325T020000
RDATE:20181028T010000
TZOFFSETFROM:+0000
TZOFFSETTO:+0100
TZNAME:Europe/Lisbon WEST
END:DAYLIGHT
BEGIN:DAYLIGHT
DTSTART:20190331T020000
RDATE:20191027T010000
TZOFFSETFROM:+0000
TZOFFSETTO:+0100
TZNAME:Europe/Lisbon WEST
END:DAYLIGHT
BEGIN:DAYLIGHT
DTSTART:20200329T020000
RDATE:20201025T010000
TZOFFSETFROM:+0000
TZOFFSETTO:+0100
TZNAME:Europe/Lisbon WEST
END:DAYLIGHT
END:VTIMEZONE
BEGIN:VEVENT
UID:a70d9a3a7679ce49cd082231701f1153
CATEGORIES:Santos
SUMMARY:Santa Escolástica
DESCRIPTION;ENCODING=QUOTED-PRINTABLE:Santa Escolástica nasceu no ano 480 na cidade de Nórcia (atual Itália) e fa
 leceu a 10 de fevereiro de 542 no Monte Cassino, Roma (Itália). Era irmã gé
 mea de São Bento (http://www.paroquia-almancil.pt/utilidades/vida-dos-santo
 s/icalrepeat.detail/2018/07/11/57946/-/s-bento.html). De acordo com algumas
  fontes a mãe terá morrido no parto. Outras apontam que os dois foram criad
 os por ambos os progenitores. Certo é que receberam educação primorosa e só
 lida formação na fé cristã. Logo cedo, São Bento foi estudar para Roma e Sa
 nta Escolástica ficou com o pai, mas ainda muito jovem decidiu consagrar-se
  totalmente a Deus com o voto de castidade.\nSão muito poucos os dados da v
 ida de Santa Escolástica, e foram escritos quarenta anos depois de sua mort
 e, pelo Papa Gregório Magno, que era um beneditino. Ele recolheu alguns dep
 oimentos de testemunhas vivas para o seu livro &ldquo;Diálogos&rdquo; e esc
 reveu sobre ela apenas como uma referência na vida de Bento, mais como uma 
 sombra do grande irmão, pai dos monges ocidentais.\nAssim, depois da morte 
 dos pais Santa Escolástica deu tudo aos pobres. Junto com uma criada, que e
 ra amiga de confiança e seguidora também de Cristo, foi ter com São Bento, 
 que, entretanto, tinha fundado a Ordem de S. Bento e expressou o desejo de 
 seguir Cristo através das regras beneditinas. São Bento discerniu e aceitou
  passar a regra a Santa Escolástica, ajudando-a a fazer as adaptações neces
 sárias ao modo de ser feminino. Assim foi formada a Ordem Beneditina Femini
 na e Santa Escolástica tornou-se a primeira madre superiora.\nO mosteiro da
 s beneditinas, que começou pequeno, floresceu e várias mulheres começaram a
  procurá-lo para ali ingressarem e viverem a consagração total a Deus na or
 ação, no trabalho, no estudo e na vida em comunidade, ajudando, compartilha
 ndo e suportando umas às outras com caridade e amor cristão.\nA relação de 
 Santa Escolástica com seu irmão gémeo São Bento, era profunda. Havia entre 
 eles uma ligação inspiradora. Os mosteiros masculino e feminino ficavam per
 to um do outro. Porém, os dois irmãos só se viam uma vez por ano por causa 
 das regras de vida e das mortificações que se impunham. Isto ocorria na Pás
 coa e numa propriedade do mosteiro do irmão. Certa vez, Santa Escolástica f
 oi ao seu encontro, acompanhada por um pequeno grupo de irmãs, quando São B
 ento chegou também acompanhado por alguns discípulos. Passaram todo o dia c
 onversando sobre assuntos espirituais e sobre as atividades da Igreja.\nAo 
 anoitecer São Bento, muito rigoroso às Regras disse à irmã que era hora de 
 se despedirem. Mas a santa pediu-lhe que ficasse para passarem a noite, tod
 os juntos, conversando e rezando. São Bento não cedeu dizendo que deveria i
 r para as suas obrigações. Neste momento a santa pôs-se a rezar com tal fer
 vor que uma grande tempestade se formou com raios e uma chuva forte caiu a 
 noite toda, e ele teve de ficar. Vendo o irmão zangado, Santa Escolástica e
 sclareceu: "Pedi-te a ti e tu não me ouviste; pedi ao Senhor e ele me ouviu
 . Vai-te embora, se puderes, volta para o teu mosteiro" e os dois irmãos co
 nversaram e rezaram a noite inteira. No dia seguinte o sol apareceu, os san
 tos despediram-se e cada grupo voltou para o seu mosteiro. Essa seria a últ
 ima vez que os dois se veriam.\nTrês dias depois, a 10 de fevereiro de 547 
 Santa Escolástica faleceu. São Bento, em oração, viu o espírito da irmã, co
 mo uma pomba, entrar no paraíso.\nSão Bento sepultou a irmã no túmulo que t
 inha preparado para a sua própria sepultura. Quarenta dias depois da morte 
 da irmã, São Bento morre também.\nA mensagem e a forma de vida de São Bento
  e de Santa Escolástica influenciaram todo o Ocidente cristão. Das Ordens r
 eligiosas criadas por eles, várias outras foram criadas, todas vivendo sob 
 a regra de vida baseada no lema &ldquo;Oração e Trabalho&rdquo;.\n \n Santa
  Escolástica rogai por nós!\n
DTSTAMP:20260420T045106Z
DTSTART;TZID=Europe/Lisbon;VALUE=DATE:20140210
DTEND;TZID=Europe/Lisbon;VALUE=DATE:20140211
SEQUENCE:0
RRULE:FREQ=YEARLY;COUNT=100;INTERVAL=1;BYYEARDAY=+41
TRANSP:OPAQUE
END:VEVENT
END:VCALENDAR