BEGIN:VCALENDAR
VERSION:2.0
PRODID:-//jEvents 2.0 for Joomla//EN
CALSCALE:GREGORIAN
METHOD:PUBLISH
BEGIN:VTIMEZONE
TZID:Europe/Lisbon
BEGIN:STANDARD
DTSTART:20130208T000000
RDATE:20130331T020000
TZOFFSETFROM:+0100
TZOFFSETTO:+0000
TZNAME:Europe/Lisbon WET
END:STANDARD
BEGIN:STANDARD
DTSTART:20131027T010000
RDATE:20140330T020000
TZOFFSETFROM:+0100
TZOFFSETTO:+0000
TZNAME:Europe/Lisbon WET
END:STANDARD
BEGIN:STANDARD
DTSTART:20141026T010000
RDATE:20150329T020000
TZOFFSETFROM:+0100
TZOFFSETTO:+0000
TZNAME:Europe/Lisbon WET
END:STANDARD
BEGIN:STANDARD
DTSTART:20151025T010000
RDATE:20160327T020000
TZOFFSETFROM:+0100
TZOFFSETTO:+0000
TZNAME:Europe/Lisbon WET
END:STANDARD
BEGIN:STANDARD
DTSTART:20161030T010000
RDATE:20170326T020000
TZOFFSETFROM:+0100
TZOFFSETTO:+0000
TZNAME:Europe/Lisbon WET
END:STANDARD
BEGIN:STANDARD
DTSTART:20171029T010000
RDATE:20180325T020000
TZOFFSETFROM:+0100
TZOFFSETTO:+0000
TZNAME:Europe/Lisbon WET
END:STANDARD
BEGIN:STANDARD
DTSTART:20181028T010000
RDATE:20190331T020000
TZOFFSETFROM:+0100
TZOFFSETTO:+0000
TZNAME:Europe/Lisbon WET
END:STANDARD
BEGIN:STANDARD
DTSTART:20191027T010000
RDATE:20200329T020000
TZOFFSETFROM:+0100
TZOFFSETTO:+0000
TZNAME:Europe/Lisbon WET
END:STANDARD
BEGIN:STANDARD
DTSTART:20201025T010000
RDATE:20210328T020000
TZOFFSETFROM:+0100
TZOFFSETTO:+0000
TZNAME:Europe/Lisbon WET
END:STANDARD
BEGIN:DAYLIGHT
DTSTART:20130331T020000
RDATE:20131027T010000
TZOFFSETFROM:+0000
TZOFFSETTO:+0100
TZNAME:Europe/Lisbon WEST
END:DAYLIGHT
BEGIN:DAYLIGHT
DTSTART:20140330T020000
RDATE:20141026T010000
TZOFFSETFROM:+0000
TZOFFSETTO:+0100
TZNAME:Europe/Lisbon WEST
END:DAYLIGHT
BEGIN:DAYLIGHT
DTSTART:20150329T020000
RDATE:20151025T010000
TZOFFSETFROM:+0000
TZOFFSETTO:+0100
TZNAME:Europe/Lisbon WEST
END:DAYLIGHT
BEGIN:DAYLIGHT
DTSTART:20160327T020000
RDATE:20161030T010000
TZOFFSETFROM:+0000
TZOFFSETTO:+0100
TZNAME:Europe/Lisbon WEST
END:DAYLIGHT
BEGIN:DAYLIGHT
DTSTART:20170326T020000
RDATE:20171029T010000
TZOFFSETFROM:+0000
TZOFFSETTO:+0100
TZNAME:Europe/Lisbon WEST
END:DAYLIGHT
BEGIN:DAYLIGHT
DTSTART:20180325T020000
RDATE:20181028T010000
TZOFFSETFROM:+0000
TZOFFSETTO:+0100
TZNAME:Europe/Lisbon WEST
END:DAYLIGHT
BEGIN:DAYLIGHT
DTSTART:20190331T020000
RDATE:20191027T010000
TZOFFSETFROM:+0000
TZOFFSETTO:+0100
TZNAME:Europe/Lisbon WEST
END:DAYLIGHT
BEGIN:DAYLIGHT
DTSTART:20200329T020000
RDATE:20201025T010000
TZOFFSETFROM:+0000
TZOFFSETTO:+0100
TZNAME:Europe/Lisbon WEST
END:DAYLIGHT
END:VTIMEZONE
BEGIN:VEVENT
UID:c9a9dab74ac124e3a5f32ddd99051c6d
CATEGORIES:Santos
SUMMARY:Beata Eusébia Palomino Yenes
DESCRIPTION;ENCODING=QUOTED-PRINTABLE:Beata Eusébia Palomino Yenes nasceu a 15 de dezembro de 1889 em Cantalpino,
  província de Salamanca (Espanha) e faleceu a 10 de fevereiro de 1935 em Va
 lverde do Caminho, Huelva. Nasceu no seio duma família muito pobre, mas de 
 grande fé. Era filha de Agostino Palomino e de Joana Yenes de Villaflores. 
 O seu pai trabalhava ao dia ao serviço dos latifundiários nos arredores da 
 aldeia e a sua mãe cuidava da casa e dos seus quatro filhos. \nQuando no in
 verno o campo descansa e falta trabalho, a comida escasseia. Então o pai de
  Eusébia Palomino Yenes é forçado a pedir ajuda de outras pessoas pobres na
 s aldeias da região. Às vezes, é acompanhado pela pequena Eusébia, com apen
 as sete anos de idade, que ignorando o custo de algumas humilhações, goza d
 aquelas caminhadas nas trilhas do país. \nNestas caminhadas o seu pai, pobr
 e de bens, mas rico dos valores fazia questão de ensiná-la as primeiras liç
 ões de catecismo, e instrui-la o mais que podia na bondade e caridade. Aos 
 10 anos (8 anos segundo algumas fontes), Eusébia - que desde muito cedo se 
 destacava na disponibilidade em ajudar a quem precisasse, fosse em casa, na
  paróquia ou na rua &ndash; faz a primeira comunhão e ao que parece logo co
 mpreende a perfeita ligação entre este Sacramento e o sentido da oferta de 
 si mesma a Deus e ao próximo.\nPouco depois a Beata Eusébia Palomino Yenes 
 teve que deixar a escola para ajudar a família - e depois de ter dado prova
  de uma maturidade precoce - fica a cuidar de crianças de algumas famílias 
 da cidade enquanto os pais vão trabalhar. Quando tinha doze anos, Eusébia P
 alomino foi a Salamanca com sua irmã mais velha e começou a servir como ama
 .\nAos domingos à tarde, a beata vai ao oratório festivo das Filhas de Mari
 a Auxiliadora, onde encontra as religiosas, que decidem pedir-lhe ajuda par
 a ajudar a comunidade. Eusébia aceita com grande prazer e imediatamente com
 eça a trabalhar: ajudar na cozinha, levar a madeira, ajudar na limpeza da c
 asa, cuidar das roupas no grande quintal, acompanhar o grupo de alunos para
  a escola e fazer os recados na cidade.\nO desejo secreto de Eusébia de con
 sagrar-se inteiramente ao Senhor, ilumina e nutre cada vez mais os seus ato
 s e sua oração. Ela diz: "Se cumprir diligentemente os meus deveres, ficare
 i feliz com a Virgem Maria e um dia serei capaz de ser sua filha no Institu
 to". Contudo Eusébia Palomino Yenes não se atreve a pedir para ingressar no
  Instituto por causa de sua pobreza e falta de educação, pois não se julga 
 digna de tal graça.\nPorém, no ano de 1921, Eusébia Palomino Yenes começa o
  noviciado em preparação para a profissão. Alternando horas de estudo de or
 ação e trabalho Eusébia é totalmente feliz. A 5 de agosto de 1924 a Beata E
 usébia Yenes faz os votos religiosos.\nA irmã Eusébia Palomino Yenes está d
 estinada à casa de Valverde del Camino. As meninas da escola e o oratório, 
 no primeiro encontro, estão bastante dececionadas, pois a nova Irmã (Eusébi
 a) tem um aspeto bastante insignificante, pequeno e pálido, não bonito, com
  mãos grossas e também um nome feio. Porém logo são atraídas pelas narraçõe
 s de eventos missionários, vidas de santos, episódios de devoção mariana ou
  anedotas de Dom Bosco, que a beata Eusébia Palomino Yenes se lembra graças
  a uma memória feliz e sabe como torná-los atraentes pela sua convicção e f
 é simples.\nApós vários anos doente faleceu a 10 de fevereiro de 1935.\nFoi
  beatificada pelo Papa João Paulo II a 25 de abril de 2004. \n
DTSTAMP:20260420T030126Z
DTSTART;TZID=Europe/Lisbon;VALUE=DATE:20140209
DTEND;TZID=Europe/Lisbon;VALUE=DATE:20140210
SEQUENCE:0
RRULE:FREQ=YEARLY;COUNT=100;INTERVAL=1;BYYEARDAY=+40
TRANSP:OPAQUE
END:VEVENT
END:VCALENDAR