BEGIN:VCALENDAR
VERSION:2.0
PRODID:-//jEvents 2.0 for Joomla//EN
CALSCALE:GREGORIAN
METHOD:PUBLISH
BEGIN:VTIMEZONE
TZID:Europe/Lisbon
BEGIN:STANDARD
DTSTART:20130203T000000
RDATE:20130331T020000
TZOFFSETFROM:+0100
TZOFFSETTO:+0000
TZNAME:Europe/Lisbon WET
END:STANDARD
BEGIN:STANDARD
DTSTART:20131027T010000
RDATE:20140330T020000
TZOFFSETFROM:+0100
TZOFFSETTO:+0000
TZNAME:Europe/Lisbon WET
END:STANDARD
BEGIN:STANDARD
DTSTART:20141026T010000
RDATE:20150329T020000
TZOFFSETFROM:+0100
TZOFFSETTO:+0000
TZNAME:Europe/Lisbon WET
END:STANDARD
BEGIN:STANDARD
DTSTART:20151025T010000
RDATE:20160327T020000
TZOFFSETFROM:+0100
TZOFFSETTO:+0000
TZNAME:Europe/Lisbon WET
END:STANDARD
BEGIN:STANDARD
DTSTART:20161030T010000
RDATE:20170326T020000
TZOFFSETFROM:+0100
TZOFFSETTO:+0000
TZNAME:Europe/Lisbon WET
END:STANDARD
BEGIN:STANDARD
DTSTART:20171029T010000
RDATE:20180325T020000
TZOFFSETFROM:+0100
TZOFFSETTO:+0000
TZNAME:Europe/Lisbon WET
END:STANDARD
BEGIN:STANDARD
DTSTART:20181028T010000
RDATE:20190331T020000
TZOFFSETFROM:+0100
TZOFFSETTO:+0000
TZNAME:Europe/Lisbon WET
END:STANDARD
BEGIN:STANDARD
DTSTART:20191027T010000
RDATE:20200329T020000
TZOFFSETFROM:+0100
TZOFFSETTO:+0000
TZNAME:Europe/Lisbon WET
END:STANDARD
BEGIN:STANDARD
DTSTART:20201025T010000
RDATE:20210328T020000
TZOFFSETFROM:+0100
TZOFFSETTO:+0000
TZNAME:Europe/Lisbon WET
END:STANDARD
BEGIN:DAYLIGHT
DTSTART:20130331T020000
RDATE:20131027T010000
TZOFFSETFROM:+0000
TZOFFSETTO:+0100
TZNAME:Europe/Lisbon WEST
END:DAYLIGHT
BEGIN:DAYLIGHT
DTSTART:20140330T020000
RDATE:20141026T010000
TZOFFSETFROM:+0000
TZOFFSETTO:+0100
TZNAME:Europe/Lisbon WEST
END:DAYLIGHT
BEGIN:DAYLIGHT
DTSTART:20150329T020000
RDATE:20151025T010000
TZOFFSETFROM:+0000
TZOFFSETTO:+0100
TZNAME:Europe/Lisbon WEST
END:DAYLIGHT
BEGIN:DAYLIGHT
DTSTART:20160327T020000
RDATE:20161030T010000
TZOFFSETFROM:+0000
TZOFFSETTO:+0100
TZNAME:Europe/Lisbon WEST
END:DAYLIGHT
BEGIN:DAYLIGHT
DTSTART:20170326T020000
RDATE:20171029T010000
TZOFFSETFROM:+0000
TZOFFSETTO:+0100
TZNAME:Europe/Lisbon WEST
END:DAYLIGHT
BEGIN:DAYLIGHT
DTSTART:20180325T020000
RDATE:20181028T010000
TZOFFSETFROM:+0000
TZOFFSETTO:+0100
TZNAME:Europe/Lisbon WEST
END:DAYLIGHT
BEGIN:DAYLIGHT
DTSTART:20190331T020000
RDATE:20191027T010000
TZOFFSETFROM:+0000
TZOFFSETTO:+0100
TZNAME:Europe/Lisbon WEST
END:DAYLIGHT
BEGIN:DAYLIGHT
DTSTART:20200329T020000
RDATE:20201025T010000
TZOFFSETFROM:+0000
TZOFFSETTO:+0100
TZNAME:Europe/Lisbon WEST
END:DAYLIGHT
END:VTIMEZONE
BEGIN:VEVENT
UID:5c294eeed6a13cb3674525d15f6e2889
CATEGORIES:Santos
SUMMARY:Rábano Mauro
DESCRIPTION;ENCODING=QUOTED-PRINTABLE:Rábano Mauro nasceu por volta do ano 780 em Mainz (Alemanha) e faleceu na m
 esma cidade a 4 de fevereiro de 856 na mesma cidade. Era filho de membros d
 a aristocracia, os seus pais eram Waluran e Waltrat.\nQuando era criança, R
 ábano Mauro em 790/791 entrou na abadia beneditina de Fulda, onde fez os se
 us primeiros estudos e em 801 foi ordenado diácono. Pouco tempo depois, Ráb
 ano Mauro foi enviado para concluir os estudos em Tours (França), sob a ori
 entação de Alcuino de Iorque. Foi o próprio Alcuíno de Iorque quem lhe deu 
 o apelido de "Mauro", em memória do discípulo favorito de Bento de Núrsia (
 http://www.paroquia-almancil.pt/utilidades/vida-dos-santos/icalrepeat.detai
 l/2018/07/11/57946/-/s-bento.html).\nEsta inserção precoce de Rabano como "
 puer oblatus" no mundo monástico beneditino, e os frutos que obteve para o 
 seu crescimento humano, cultural e espiritual, abririam sozinhos uma espira
 l interessantíssima não só sobre a vida dos monges e da Igreja, mas também 
 sobre toda a sociedade da sua época, habitualmente qualificada como "carolí
 ngia". Deles, ou talvez de si mesmo, Rabano Mauro escreve: "Há alguns que t
 êm a sorte de ser introduzidos no conhecimento das Escrituras desde a tenra
  infância" e foram tão bem nutridos com o alimento oferecido pela Santa Igr
 eja que, com a educação apropriada, puderam ser promovidos às ordens sagrad
 as mais altas".\nDepois de dois anos a estudar em tours, Rábano Mauro retor
 nou a Fulda para dirigir a escola anexada à abadia. Em 814 ele foi ordenado
  sacerdote. Após uma peregrinação a Jerusalém, em 817 voltou para a abadia 
 de Fulda. Nos vinte anos de sua abadia, Rábano Mauro escreveu a maioria de 
 suas obras, continuou a reconstrução dos edifícios monásticos iniciados por
  seu antecessor, fortaleceu o scriptorium da abadia, cuja biblioteca se tor
 nou uma das mais ricas da Europa.\nEm 842 renunciou como abade e retirou-se
  para Petersberg, perto de Fulda, onde continuou a sua atividade académica.
  Em 847 foi eleito bispo de Mainz, cargo que ocupou até sua morte, distingu
 indo-se pela sua preocupação com os seus diocesanos, especialmente durante 
 a grave fome de 850, mas também pelas rígidas posições tomadas em litígios 
 teológicos e eclesiásticos. \nRábano Mauro faleceu a 4 de fevereiro de 856.
 \nÉ lembrado como "praeceptor Germaniae" ("professor da Alemanha", em latim
 ).\n Pensa-se que seja o autor do hino Veni Creator Spiritus.\n
DTSTAMP:20260422T123358Z
DTSTART;TZID=Europe/Lisbon;VALUE=DATE:20140204
DTEND;TZID=Europe/Lisbon;VALUE=DATE:20140205
SEQUENCE:0
RRULE:FREQ=YEARLY;COUNT=100;INTERVAL=1;BYYEARDAY=+35
TRANSP:OPAQUE
END:VEVENT
END:VCALENDAR