BEGIN:VCALENDAR
VERSION:2.0
PRODID:-//jEvents 2.0 for Joomla//EN
CALSCALE:GREGORIAN
METHOD:PUBLISH
BEGIN:VTIMEZONE
TZID:Europe/Lisbon
BEGIN:STANDARD
DTSTART:20130203T000000
RDATE:20130331T020000
TZOFFSETFROM:+0100
TZOFFSETTO:+0000
TZNAME:Europe/Lisbon WET
END:STANDARD
BEGIN:STANDARD
DTSTART:20131027T010000
RDATE:20140330T020000
TZOFFSETFROM:+0100
TZOFFSETTO:+0000
TZNAME:Europe/Lisbon WET
END:STANDARD
BEGIN:STANDARD
DTSTART:20141026T010000
RDATE:20150329T020000
TZOFFSETFROM:+0100
TZOFFSETTO:+0000
TZNAME:Europe/Lisbon WET
END:STANDARD
BEGIN:STANDARD
DTSTART:20151025T010000
RDATE:20160327T020000
TZOFFSETFROM:+0100
TZOFFSETTO:+0000
TZNAME:Europe/Lisbon WET
END:STANDARD
BEGIN:STANDARD
DTSTART:20161030T010000
RDATE:20170326T020000
TZOFFSETFROM:+0100
TZOFFSETTO:+0000
TZNAME:Europe/Lisbon WET
END:STANDARD
BEGIN:STANDARD
DTSTART:20171029T010000
RDATE:20180325T020000
TZOFFSETFROM:+0100
TZOFFSETTO:+0000
TZNAME:Europe/Lisbon WET
END:STANDARD
BEGIN:STANDARD
DTSTART:20181028T010000
RDATE:20190331T020000
TZOFFSETFROM:+0100
TZOFFSETTO:+0000
TZNAME:Europe/Lisbon WET
END:STANDARD
BEGIN:STANDARD
DTSTART:20191027T010000
RDATE:20200329T020000
TZOFFSETFROM:+0100
TZOFFSETTO:+0000
TZNAME:Europe/Lisbon WET
END:STANDARD
BEGIN:STANDARD
DTSTART:20201025T010000
RDATE:20210328T020000
TZOFFSETFROM:+0100
TZOFFSETTO:+0000
TZNAME:Europe/Lisbon WET
END:STANDARD
BEGIN:DAYLIGHT
DTSTART:20130331T020000
RDATE:20131027T010000
TZOFFSETFROM:+0000
TZOFFSETTO:+0100
TZNAME:Europe/Lisbon WEST
END:DAYLIGHT
BEGIN:DAYLIGHT
DTSTART:20140330T020000
RDATE:20141026T010000
TZOFFSETFROM:+0000
TZOFFSETTO:+0100
TZNAME:Europe/Lisbon WEST
END:DAYLIGHT
BEGIN:DAYLIGHT
DTSTART:20150329T020000
RDATE:20151025T010000
TZOFFSETFROM:+0000
TZOFFSETTO:+0100
TZNAME:Europe/Lisbon WEST
END:DAYLIGHT
BEGIN:DAYLIGHT
DTSTART:20160327T020000
RDATE:20161030T010000
TZOFFSETFROM:+0000
TZOFFSETTO:+0100
TZNAME:Europe/Lisbon WEST
END:DAYLIGHT
BEGIN:DAYLIGHT
DTSTART:20170326T020000
RDATE:20171029T010000
TZOFFSETFROM:+0000
TZOFFSETTO:+0100
TZNAME:Europe/Lisbon WEST
END:DAYLIGHT
BEGIN:DAYLIGHT
DTSTART:20180325T020000
RDATE:20181028T010000
TZOFFSETFROM:+0000
TZOFFSETTO:+0100
TZNAME:Europe/Lisbon WEST
END:DAYLIGHT
BEGIN:DAYLIGHT
DTSTART:20190331T020000
RDATE:20191027T010000
TZOFFSETFROM:+0000
TZOFFSETTO:+0100
TZNAME:Europe/Lisbon WEST
END:DAYLIGHT
BEGIN:DAYLIGHT
DTSTART:20200329T020000
RDATE:20201025T010000
TZOFFSETFROM:+0000
TZOFFSETTO:+0100
TZNAME:Europe/Lisbon WEST
END:DAYLIGHT
END:VTIMEZONE
BEGIN:VEVENT
UID:f870e452a406f5973bdaadc42d502be6
CATEGORIES:Santos
SUMMARY:Santa Maria de Mattias
DESCRIPTION;ENCODING=QUOTED-PRINTABLE:Santa Maria de Mattias nasceu a 4 de fevereiro de 1805 em Vallecorsa, Frosi
 none (Itália) e faleceu a 20 de agosto de 1866. Era a filha mais velha de G
 iovanni e Ottavia de Angelis e foi batizada como Maria Metilde. Na sua famí
 lia não faltavam riqueza e cultura, assim como uma profunda fé cristã.\nO s
 eu pai foi um educador excecional que a ensinava a rezar e a amar a Sagrada
  Escritura. No diálogo com seu pai, aprendeu e interiorizou as verdades da 
 fé. Assim desenvolveu um grande amor a Jesus, Cordeiro imolado pela salvaçã
 o da humanidade. Tudo isto aconteceu quando se vivia o período trágico do b
 anditismo. No espírito de Santa Maria de Mattias, amadurecia, assim, um con
 fronto entre o sangue humano derramado pelo ódio e vingança e o de Cristo, 
 derramado por amor.\nViveu a sua meninice e adolescência na contemplação da
  sua beleza, mas aos 16-17 anos foi favorecida com uma especial inspiração 
 da Santíssima Virgem, e compreendeu a vaidade e a transitoriedade dos praze
 res do mundo e começou por renunciar a joias e a adornos pelo ideal de uma 
 vida dedicada a Deus e aos irmãos.\nEm 1822, quando São Gaspar del Bufalo, 
 fundador da Sociedade dos Missionários do Preciosíssimo Sangue, pregou numa
  missão em Vallecorsa, Santa Maria de Mattias descobriu sua vocação de miss
 ionária, não em África, como havia sonhado em menina, mas na sua região.\nC
 omo tinha aprendido a ler e escrever, Santa Maria de Mattias foi chamada pe
 lo Administrador de Anagni, Monsenhir José Maria Lais, para ensinar as cria
 nças, em Acuto, uma aldeia de montanha perto de Roma. Maria de Mattias come
 çou a pregar e a catequizar na praça e na igreja, entusiasmando todos e pre
 ocupando alguns, tanto que o bispo mandou um jesuíta observá-la incógnito, 
 mas este concluiu que ela &ldquo;fala melhor do que um padre&rdquo;. Não po
 dendo falar aos homens, estes vinham voluntariamente para ouvi-la, embora à
 s escondidas. \nSanta Maria de Mattias atraía até os sacerdotes, porque, qu
 ando falava de Jesus e dos mistérios da fé, parecia tê-los vivido em pessoa
 . O seu desejo era de que nem uma gota do Sangue de Jesus se perdesse, que 
 juntasse todos os pecadores para os purificar e, assim, reencontrassem o ju
 sto caminho para a paz e comunhão entre os homens.\nMontada numa mula a san
 ta vai de uma aldeia a outra, atendendo aos pedidos e as necessidades dos l
 ugares. E aonde não pode chegar pessoalmente, envia cartas tanto para gente
  simples, como também para padres e bispos, síndicos e prefeitos, para acon
 selhar, educar, propor e estimular.\nA 4 de março de 1834 e sob a orientaçã
 o do Venerável Pe. Giovanni Merlini, fundou a Congregação das Irmãs Adorado
 ras do Sangue de Cristo, em Acuto. A Congregação tinha como fim especial a 
 propagação da devoção ao Sangue de Cristo e a educação da juventude, especi
 almente em centros pequenos e abandonados. Outras atividades promovidas pel
 a zelosa Fundadora foram os cursos catequéticos, missões, retiros para leig
 os, senhores e jovens.\nSua ação ardorosa atraia muitas jovens e Santa Mari
 a de Mattias fundou cerca de 70 casas, chegando à Alemanha e à Inglaterra; 
 em Roma, o próprio Papa Pio IX a chamou para o Hospício de São Luís e para 
 a Escola de Civitavecchia.\nFaleceu a 20 de agosto de 1866 em Roma.\nFoi ca
 nonizada pelo Papa João Paulo II a 18 de maio de 2003.\n \nSanta Maria de M
 attias rogai por nós!\n
DTSTAMP:20260420T115855Z
DTSTART;TZID=Europe/Lisbon;VALUE=DATE:20140204
DTEND;TZID=Europe/Lisbon;VALUE=DATE:20140205
SEQUENCE:0
RRULE:FREQ=YEARLY;COUNT=100;INTERVAL=1;BYYEARDAY=+35
TRANSP:OPAQUE
END:VEVENT
END:VCALENDAR