BEGIN:VCALENDAR
VERSION:2.0
PRODID:-//jEvents 2.0 for Joomla//EN
CALSCALE:GREGORIAN
METHOD:PUBLISH
BEGIN:VTIMEZONE
TZID:Europe/Lisbon
BEGIN:STANDARD
DTSTART:20130202T000000
RDATE:20130331T020000
TZOFFSETFROM:+0100
TZOFFSETTO:+0000
TZNAME:Europe/Lisbon WET
END:STANDARD
BEGIN:STANDARD
DTSTART:20131027T010000
RDATE:20140330T020000
TZOFFSETFROM:+0100
TZOFFSETTO:+0000
TZNAME:Europe/Lisbon WET
END:STANDARD
BEGIN:STANDARD
DTSTART:20141026T010000
RDATE:20150329T020000
TZOFFSETFROM:+0100
TZOFFSETTO:+0000
TZNAME:Europe/Lisbon WET
END:STANDARD
BEGIN:STANDARD
DTSTART:20151025T010000
RDATE:20160327T020000
TZOFFSETFROM:+0100
TZOFFSETTO:+0000
TZNAME:Europe/Lisbon WET
END:STANDARD
BEGIN:STANDARD
DTSTART:20161030T010000
RDATE:20170326T020000
TZOFFSETFROM:+0100
TZOFFSETTO:+0000
TZNAME:Europe/Lisbon WET
END:STANDARD
BEGIN:STANDARD
DTSTART:20171029T010000
RDATE:20180325T020000
TZOFFSETFROM:+0100
TZOFFSETTO:+0000
TZNAME:Europe/Lisbon WET
END:STANDARD
BEGIN:STANDARD
DTSTART:20181028T010000
RDATE:20190331T020000
TZOFFSETFROM:+0100
TZOFFSETTO:+0000
TZNAME:Europe/Lisbon WET
END:STANDARD
BEGIN:STANDARD
DTSTART:20191027T010000
RDATE:20200329T020000
TZOFFSETFROM:+0100
TZOFFSETTO:+0000
TZNAME:Europe/Lisbon WET
END:STANDARD
BEGIN:STANDARD
DTSTART:20201025T010000
RDATE:20210328T020000
TZOFFSETFROM:+0100
TZOFFSETTO:+0000
TZNAME:Europe/Lisbon WET
END:STANDARD
BEGIN:DAYLIGHT
DTSTART:20130331T020000
RDATE:20131027T010000
TZOFFSETFROM:+0000
TZOFFSETTO:+0100
TZNAME:Europe/Lisbon WEST
END:DAYLIGHT
BEGIN:DAYLIGHT
DTSTART:20140330T020000
RDATE:20141026T010000
TZOFFSETFROM:+0000
TZOFFSETTO:+0100
TZNAME:Europe/Lisbon WEST
END:DAYLIGHT
BEGIN:DAYLIGHT
DTSTART:20150329T020000
RDATE:20151025T010000
TZOFFSETFROM:+0000
TZOFFSETTO:+0100
TZNAME:Europe/Lisbon WEST
END:DAYLIGHT
BEGIN:DAYLIGHT
DTSTART:20160327T020000
RDATE:20161030T010000
TZOFFSETFROM:+0000
TZOFFSETTO:+0100
TZNAME:Europe/Lisbon WEST
END:DAYLIGHT
BEGIN:DAYLIGHT
DTSTART:20170326T020000
RDATE:20171029T010000
TZOFFSETFROM:+0000
TZOFFSETTO:+0100
TZNAME:Europe/Lisbon WEST
END:DAYLIGHT
BEGIN:DAYLIGHT
DTSTART:20180325T020000
RDATE:20181028T010000
TZOFFSETFROM:+0000
TZOFFSETTO:+0100
TZNAME:Europe/Lisbon WEST
END:DAYLIGHT
BEGIN:DAYLIGHT
DTSTART:20190331T020000
RDATE:20191027T010000
TZOFFSETFROM:+0000
TZOFFSETTO:+0100
TZNAME:Europe/Lisbon WEST
END:DAYLIGHT
BEGIN:DAYLIGHT
DTSTART:20200329T020000
RDATE:20201025T010000
TZOFFSETFROM:+0000
TZOFFSETTO:+0100
TZNAME:Europe/Lisbon WEST
END:DAYLIGHT
END:VTIMEZONE
BEGIN:VEVENT
UID:20659e9cd8c803f3501ecd80a4218008
CATEGORIES:Santos
SUMMARY:São Lourenço de Cantuária
DESCRIPTION;ENCODING=QUOTED-PRINTABLE:São Lourenço de Cantuária nasceu no século VI em local desconhecido e falec
 eu a 2 de fevereiro de 619 na Cantuária em Inglaterra.\nNada se sabe da inf
 ância de S. Lourenço de Cantuária. Os primeiros dados remontam ao ano de 59
 5 quando o monge Lourenço fazia parte da missão gregoriana enviada de Roma 
 para converter os anglo-saxões ao cristianismo. Ele desembarcou em Thanet, 
 Kent, com Santo Agostinho da Cantuária (http://www.paroquia-almancil.pt/uti
 lidades/vida-dos-santos/icalrepeat.detail/2018/05/27/57780/-/s-agostinho-da
 -cantu%C3%A1ria.html) em 597 ou, como outras fontes afirmam, chegou numa se
 gunda onda de missionários em 601 e não estava entre os primeiros missionár
 ios.\nLourenço de Cantuária foi chamado pelo Papa Gregório I (http://www.pa
 roquia-almancil.pt/utilidades/vida-dos-santos/icalrepeat.detail/2018/09/03/
 57698/-/s-greg%C3%B3rio-magno.html) para relatar o sucesso da missão, e par
 a levar uma carta com questionamentos de Agostinho para o papa. Em junho de
  601, Lourenço regressa à Cantuária.\nSucedeu a Santo Agostinho por volta d
 o ano 604 e governou até à sua morte a 2 de fevereiro de 619. Para assegura
 r sua sucessão, Santo Agostinho consagrou Lourenço antes de morrer, algo qu
 e era proibido pelo direito canónico. Agostinho temia que se alguém não ass
 umisse o posto imediatamente após a sua morte, os esforços missionários na 
 Britânia poderiam ser prejudicados.\nNo ano 613, Lourenço consagrou aos san
 tos Pedro e Paulo a igreja do mosteiro construído por Agostinho em Cantuári
 a. Mais tarde a igreja seria reconsagrada como Abadia de Santo Agostinho. \
 nEm seu mandato como arcebispo, ele tentou sem sucesso resolver as diferenç
 as doutrinárias da Igreja com os bispos britânicos locais, correspondendo-s
 e com eles sobre os pontos de discórdia.\n
DTSTAMP:20260420T105646Z
DTSTART;TZID=Europe/Lisbon;VALUE=DATE:20140203
DTEND;TZID=Europe/Lisbon;VALUE=DATE:20140204
SEQUENCE:0
RRULE:FREQ=YEARLY;COUNT=100;INTERVAL=1;BYYEARDAY=+34
TRANSP:OPAQUE
END:VEVENT
END:VCALENDAR