BEGIN:VCALENDAR
VERSION:2.0
PRODID:-//jEvents 2.0 for Joomla//EN
CALSCALE:GREGORIAN
METHOD:PUBLISH
BEGIN:VTIMEZONE
TZID:Europe/Lisbon
BEGIN:STANDARD
DTSTART:20130202T000000
RDATE:20130331T020000
TZOFFSETFROM:+0100
TZOFFSETTO:+0000
TZNAME:Europe/Lisbon WET
END:STANDARD
BEGIN:STANDARD
DTSTART:20131027T010000
RDATE:20140330T020000
TZOFFSETFROM:+0100
TZOFFSETTO:+0000
TZNAME:Europe/Lisbon WET
END:STANDARD
BEGIN:STANDARD
DTSTART:20141026T010000
RDATE:20150329T020000
TZOFFSETFROM:+0100
TZOFFSETTO:+0000
TZNAME:Europe/Lisbon WET
END:STANDARD
BEGIN:STANDARD
DTSTART:20151025T010000
RDATE:20160327T020000
TZOFFSETFROM:+0100
TZOFFSETTO:+0000
TZNAME:Europe/Lisbon WET
END:STANDARD
BEGIN:STANDARD
DTSTART:20161030T010000
RDATE:20170326T020000
TZOFFSETFROM:+0100
TZOFFSETTO:+0000
TZNAME:Europe/Lisbon WET
END:STANDARD
BEGIN:STANDARD
DTSTART:20171029T010000
RDATE:20180325T020000
TZOFFSETFROM:+0100
TZOFFSETTO:+0000
TZNAME:Europe/Lisbon WET
END:STANDARD
BEGIN:STANDARD
DTSTART:20181028T010000
RDATE:20190331T020000
TZOFFSETFROM:+0100
TZOFFSETTO:+0000
TZNAME:Europe/Lisbon WET
END:STANDARD
BEGIN:STANDARD
DTSTART:20191027T010000
RDATE:20200329T020000
TZOFFSETFROM:+0100
TZOFFSETTO:+0000
TZNAME:Europe/Lisbon WET
END:STANDARD
BEGIN:STANDARD
DTSTART:20201025T010000
RDATE:20210328T020000
TZOFFSETFROM:+0100
TZOFFSETTO:+0000
TZNAME:Europe/Lisbon WET
END:STANDARD
BEGIN:DAYLIGHT
DTSTART:20130331T020000
RDATE:20131027T010000
TZOFFSETFROM:+0000
TZOFFSETTO:+0100
TZNAME:Europe/Lisbon WEST
END:DAYLIGHT
BEGIN:DAYLIGHT
DTSTART:20140330T020000
RDATE:20141026T010000
TZOFFSETFROM:+0000
TZOFFSETTO:+0100
TZNAME:Europe/Lisbon WEST
END:DAYLIGHT
BEGIN:DAYLIGHT
DTSTART:20150329T020000
RDATE:20151025T010000
TZOFFSETFROM:+0000
TZOFFSETTO:+0100
TZNAME:Europe/Lisbon WEST
END:DAYLIGHT
BEGIN:DAYLIGHT
DTSTART:20160327T020000
RDATE:20161030T010000
TZOFFSETFROM:+0000
TZOFFSETTO:+0100
TZNAME:Europe/Lisbon WEST
END:DAYLIGHT
BEGIN:DAYLIGHT
DTSTART:20170326T020000
RDATE:20171029T010000
TZOFFSETFROM:+0000
TZOFFSETTO:+0100
TZNAME:Europe/Lisbon WEST
END:DAYLIGHT
BEGIN:DAYLIGHT
DTSTART:20180325T020000
RDATE:20181028T010000
TZOFFSETFROM:+0000
TZOFFSETTO:+0100
TZNAME:Europe/Lisbon WEST
END:DAYLIGHT
BEGIN:DAYLIGHT
DTSTART:20190331T020000
RDATE:20191027T010000
TZOFFSETFROM:+0000
TZOFFSETTO:+0100
TZNAME:Europe/Lisbon WEST
END:DAYLIGHT
BEGIN:DAYLIGHT
DTSTART:20200329T020000
RDATE:20201025T010000
TZOFFSETFROM:+0000
TZOFFSETTO:+0100
TZNAME:Europe/Lisbon WEST
END:DAYLIGHT
END:VTIMEZONE
BEGIN:VEVENT
UID:8b7e29c6ca146ee00fb4ee696a72d040
CATEGORIES:Santos
SUMMARY:Beato Estêvão Bellesini
DESCRIPTION;ENCODING=QUOTED-PRINTABLE:  \nBeato Estevão Bellesini nasceu a 25 de novembro de 1774 em Trento (Itál
 ia) e faleceu a 2 de fevereiro de 1840. Era filho de José Bellesini, notári
 o em Trento descendente de antiga família espanhola, e de Maria Orsola Meic
 hlpeck, de ilustre casa belga. Beato Estêvão Bellesini foi batizado como Lu
 ís.\nPouco se sabe da sua infância, para além de que o beato estudou em esc
 olas locais.\nAos 17 anos, Beato Estêvão Bellesini entrou no noviciado agos
 tiniano do convento de São Marcos, no qual um tio materno era superior. Mud
 ou o nome para Estêvão. De Trento foi para o noviciado em Bolonha. Um ano d
 epois fez sua profissão solene.\nDepois de uma estadia breve em Roma, o bea
 to regressou a Bolonha, onde estudou filosofia e teologia. Ali recebeu o su
 bdiaconato.\nNo final de 1796 os frades que se encontravam em Bolonha foram
  expulsos e os seus bens confiscados. O beato Estêvão Bellesini voltou para
  o convento de Trento, onde ainda reinava a tranquilidade. O beato ficou en
 carregado de zelar pela sacristia e da pregação, o que fazia com grande zel
 o, sendo os seus sermões muito apreciados e concorridos.\nFoi ordenado sace
 rdote a 5 de novembro de 1917. Como se encontrava gravemente doente, no dia
  da cerimónia uma maca foi levada até à igreja para que a ordenação pudesse
  ter lugar.\nComo sacerdote, o beato continuou as suas pregações ainda com 
 mais fruto, confluindo público de toda a redondeza para acompanhar o seu ca
 tecismo e sermões.Entretanto a Revolução chegou a Trento com a vitória das 
 tropas de Napoleão, e os conventos foram fechados. Os sacerdotes foram entã
 o obrigados a prestar juramento, semelhante ao da Constituição Civil do Cle
 ro, em França para que pudessem continuar a exercer livremente. \nO beato E
 stêvão Bellesini não fez o juramento e viu-se obrigado a regressar à casa p
 aterna. Aí, o beato, inicia assim a Scola per gente (Escola para as gentes,
  como a passaram a chamar os meninos), onde os alunos pobres recebiam tudo,
  desde livros até o pão. O beato pretendia educar cristãmente e no santo te
 mor de Deus a juventude. Por isso, além de aprender a ler e a escrever, os 
 alunos recebiam também aulas de catecismo. Em pouco tempo, passaram a frequ
 entar a escola quatrocentas a quinhentas crianças.\nViviam-se tempos compli
 cados e o beato tinha que desdobrar-se e sobretudo confiar muito na Providê
 ncia Divina, a fim de conseguir os meios necessários para manter a casa.\nA
 s escolas dos concorrentes andavam vazias o que fez com que fosse iniciada 
 uma campanha de difamação contra o Padre Estêvão Bellesini. Mais tarde o be
 ato foi denunciado ao governo, mas este, que conhecia bem o Pe. Bellesini, 
 aprovou e louvou o seu trabalho. Aos poucos as outras escolas tiveram que f
 echar, sendo a do beato Estêvão Bellesini a única que permaneceu aberta. No
  ano 1812 foi nomeado diretor geral de todas as Escolas do Trento.\nTudo pa
 recia correr de feição, no entanto para o beato Estêvão Bellesini falta-lhe
  a vivência de religioso, que não conseguia viver estando em Trento. Assim 
 no ano de 1817 e para que não o impedissem partiu para Roma sem dizer a nin
 guém para onde iria. Ao tomar conhecimento da &ldquo;fuga&rdquo; do Beato, 
 o governo austríaco, fez-lhe várias promessas de cargos honoríficos e altos
  salários, contudo o beato não aceitou.\nEm Roma, no convento Santo Agostin
 ho foi designado Mestre de Noviços, cargo que exerceu depois também em Citt
 à della Pieve, na Umbria e mais tarde em Genazzano.\nNo convento de Genazza
 no, o beato Estêvão Bellesini exerceu o cargo de mestre de Noviços com a fu
 nção de sacristão. Demonstrou aí um empenho amoroso pela beleza e decoro do
  santuário e do culto.\nNo ano de 1831 foi designado pároco. Tornou-se o su
 stentáculo da vida comum, o pai dos pobres, o consolador dos aflitos. Era c
 ena muito comum ver o Beato com um feixe de lenha às costas, dirigindo-se a
  alguma casa. Chegava a dar a própria roupa aos pobres.\nO beato Estêvão Be
 llesini era devoto do Santíssimo Sacramento e da Mãe do Bom Conselho.\nDepo
 is de uma visita a um doente com peste o beato sentiu-se depauperado e febr
 il, porém continuou as suas funções até uma semana antes de falecer a 2 de 
 fevereiro de 1840.\nFoi beatificado pelo grande Papa São Pio X, em 27 de de
 zembro de 1904.\n
DTSTAMP:20260420T015013Z
DTSTART;TZID=Europe/Lisbon;VALUE=DATE:20140203
DTEND;TZID=Europe/Lisbon;VALUE=DATE:20140204
SEQUENCE:0
RRULE:FREQ=YEARLY;COUNT=100;INTERVAL=1;BYYEARDAY=+34
TRANSP:OPAQUE
END:VEVENT
END:VCALENDAR