BEGIN:VCALENDAR
VERSION:2.0
PRODID:-//jEvents 2.0 for Joomla//EN
CALSCALE:GREGORIAN
METHOD:PUBLISH
BEGIN:VTIMEZONE
TZID:Europe/Lisbon
BEGIN:STANDARD
DTSTART:20130202T000000
RDATE:20130331T020000
TZOFFSETFROM:+0100
TZOFFSETTO:+0000
TZNAME:Europe/Lisbon WET
END:STANDARD
BEGIN:STANDARD
DTSTART:20131027T010000
RDATE:20140330T020000
TZOFFSETFROM:+0100
TZOFFSETTO:+0000
TZNAME:Europe/Lisbon WET
END:STANDARD
BEGIN:STANDARD
DTSTART:20141026T010000
RDATE:20150329T020000
TZOFFSETFROM:+0100
TZOFFSETTO:+0000
TZNAME:Europe/Lisbon WET
END:STANDARD
BEGIN:STANDARD
DTSTART:20151025T010000
RDATE:20160327T020000
TZOFFSETFROM:+0100
TZOFFSETTO:+0000
TZNAME:Europe/Lisbon WET
END:STANDARD
BEGIN:STANDARD
DTSTART:20161030T010000
RDATE:20170326T020000
TZOFFSETFROM:+0100
TZOFFSETTO:+0000
TZNAME:Europe/Lisbon WET
END:STANDARD
BEGIN:STANDARD
DTSTART:20171029T010000
RDATE:20180325T020000
TZOFFSETFROM:+0100
TZOFFSETTO:+0000
TZNAME:Europe/Lisbon WET
END:STANDARD
BEGIN:STANDARD
DTSTART:20181028T010000
RDATE:20190331T020000
TZOFFSETFROM:+0100
TZOFFSETTO:+0000
TZNAME:Europe/Lisbon WET
END:STANDARD
BEGIN:STANDARD
DTSTART:20191027T010000
RDATE:20200329T020000
TZOFFSETFROM:+0100
TZOFFSETTO:+0000
TZNAME:Europe/Lisbon WET
END:STANDARD
BEGIN:STANDARD
DTSTART:20201025T010000
RDATE:20210328T020000
TZOFFSETFROM:+0100
TZOFFSETTO:+0000
TZNAME:Europe/Lisbon WET
END:STANDARD
BEGIN:DAYLIGHT
DTSTART:20130331T020000
RDATE:20131027T010000
TZOFFSETFROM:+0000
TZOFFSETTO:+0100
TZNAME:Europe/Lisbon WEST
END:DAYLIGHT
BEGIN:DAYLIGHT
DTSTART:20140330T020000
RDATE:20141026T010000
TZOFFSETFROM:+0000
TZOFFSETTO:+0100
TZNAME:Europe/Lisbon WEST
END:DAYLIGHT
BEGIN:DAYLIGHT
DTSTART:20150329T020000
RDATE:20151025T010000
TZOFFSETFROM:+0000
TZOFFSETTO:+0100
TZNAME:Europe/Lisbon WEST
END:DAYLIGHT
BEGIN:DAYLIGHT
DTSTART:20160327T020000
RDATE:20161030T010000
TZOFFSETFROM:+0000
TZOFFSETTO:+0100
TZNAME:Europe/Lisbon WEST
END:DAYLIGHT
BEGIN:DAYLIGHT
DTSTART:20170326T020000
RDATE:20171029T010000
TZOFFSETFROM:+0000
TZOFFSETTO:+0100
TZNAME:Europe/Lisbon WEST
END:DAYLIGHT
BEGIN:DAYLIGHT
DTSTART:20180325T020000
RDATE:20181028T010000
TZOFFSETFROM:+0000
TZOFFSETTO:+0100
TZNAME:Europe/Lisbon WEST
END:DAYLIGHT
BEGIN:DAYLIGHT
DTSTART:20190331T020000
RDATE:20191027T010000
TZOFFSETFROM:+0000
TZOFFSETTO:+0100
TZNAME:Europe/Lisbon WEST
END:DAYLIGHT
BEGIN:DAYLIGHT
DTSTART:20200329T020000
RDATE:20201025T010000
TZOFFSETFROM:+0000
TZOFFSETTO:+0100
TZNAME:Europe/Lisbon WEST
END:DAYLIGHT
END:VTIMEZONE
BEGIN:VEVENT
UID:6f25892ad34e5455e6c0e9aa3d07e1ea
CATEGORIES:Santos
SUMMARY:São Brás
DESCRIPTION;ENCODING=QUOTED-PRINTABLE:São Brás nasceu no século III e faleceu a 3 de fevereiro de 316 em Sebaste,
  Arménia (atual cidade de Silvas, Turquia).\nNada se sabe da infância ou ad
 olescência do santo. Pensa-se que terá nascido numa família nobre. Antes de
  se tornar sacerdote, São Brás foi médico. Tinha grande compaixão pelos mai
 s necessitados e ajudava todos sem discriminação.\nA certa altura da sua vi
 da, São Brás procurou viver mais perto de Deus. Abandonando a sua profissão
  de médico, o santo refugiou-se numa gruta, a fim de se tornar um eremita e
  ficar em constante oração. Vivendo como eremita na gruta, São Brás era pro
 curado por muitos e muitas vezes as pessoas ficavam curadas das suas doença
 s do corpo e da alma.\nQuando o bispo de Sebaste morreu, o povo foi ao enco
 ntro de São Brás e pediu-lhe que se tornasse padre para &ldquo;tomar conta 
 do povo de Deus&rdquo;. São Brás aceitou, foi morar na cidade, estudou e fo
 i ordenado padre. Pouco tempo depois foi sagrado bispo de Sebaste.\nConstru
 iu então uma casa aos pés da gruta onde morou e dali, comandava a igreja de
  toda a região.\nUm dia, os soldados de Agrícola (governador da Capadócia),
  procuravam feras nos campos de Sebaste, para martirizar os cristãos na are
 na, quando se depararam com muitos animais ferozes de todas as espécies: - 
 leões, ursos, tigres, hienas, lobos e gorilas - convivendo em harmonia. Olh
 ando-se estupefatos e boquiabertos, os soldados perguntavam-se o que aconte
 cia, quando do interior da gruta surge um homem caminhando entre as feras, 
 levantando a mão, como que as abençoando. Tranquilas e em ordem voltaram pa
 ra suas covas e desertos de onde vieram.\nContudo, um enorme leão de juba r
 uiva permaneceu. Os soldados, mortos de medo, viram-no levantar a pata e lo
 go após, São Brás aproximou-se dele para extrair-lhe uma farpa que lá se cr
 avara. O animal, tranquilo, foi-se embora.\nOs soldados, regressaram e cont
 aram ao governador Agrícola o que tinham visto, muito nervoso com o ocorrid
 o, Agrícola mandou prender São Brás. Sem resistir à prisão, o santo foi lev
 ado à presença do governador para que renunciasse a Jesus Cristo e à Igreja
 . Perante a recusa de São Brás de renunciar a Jesus Cristo, Agrícola mandou
  que o santo fosse açoitado e preso na masmorra mais escura e húmida.\nMuit
 as pessoas iam visitar o santo às masmorras, para que São Brás as abençoass
 e e curasse.\nO episódio mais conhecido da vida de São Brás, ocorreu quando
  uma mãe procurou o santo carregando o seu filho quase morto nos braços com
  uma espinha encravada na garganta. São Brás passou a mão na cabeça da cria
 nça, ergueu os olhos para o céu e rezou por um breve momento. De seguida, f
 ez o sinal da cruz sobre a garganta do menino e miraculosamente no mesmo in
 stante a criança ficou curada. (Algumas fontes referem que este episódio se
  deu quando o santo se encontrava preso, outras que ocorreu quando o santo 
 caminhava para o martírio).\nSão Brás foi levado por diversas vezes à prese
 nça do governador para que renunciasse a Jesus Cristo. Como o santo permane
 cia firme na fé, era torturado. Certo dia, sete mulheres dirigiram-se à pri
 são para tratar dos ferimentos de São Brás. Os soldados do governador entre
 garam às mulheres, ídolos para que estas renunciassem a Jesus e à Igreja. C
 omo as mulheres jogaram os ídolos a um lago, foram condenadas à morte. São 
 Brás, chorou pelas sete mulheres e foi também condenado à morte por Agrícol
 a.\nSão Brás foi então jogado no lago para que morresse afogado. Ao ser jog
 ado, o santo fez o sinal da cruz sobre as águas e avançou sem afundar. Entã
 o um anjo do Senhor apareceu a São Brás e ordenou-lhe que voltasse a terra 
 firme a fim de ser martirizado. O santo obedeceu e foi então condenado à de
 capitação. Antes de ser decapitado, São Brás foi torturado com ferros em br
 asas.\nFaleceu a 3 de fevereiro do ano 316.\n \nCuriosidade. É o protetor d
 as doenças de garganta.\n
DTSTAMP:20260419T234525Z
DTSTART;TZID=Europe/Lisbon;VALUE=DATE:20140203
DTEND;TZID=Europe/Lisbon;VALUE=DATE:20140204
SEQUENCE:0
RRULE:FREQ=YEARLY;COUNT=100;INTERVAL=1;BYYEARDAY=+34
TRANSP:OPAQUE
END:VEVENT
END:VCALENDAR